BEGIN:VCALENDAR
VERSION:2.0
PRODID:-//Sonic Boom Productions - ECPv6.15.20//NONSGML v1.0//EN
CALSCALE:GREGORIAN
METHOD:PUBLISH
X-ORIGINAL-URL:https://sonic-boom-productions.com
X-WR-CALDESC:Events for Sonic Boom Productions
REFRESH-INTERVAL;VALUE=DURATION:PT1H
X-Robots-Tag:noindex
X-PUBLISHED-TTL:PT1H
BEGIN:VTIMEZONE
TZID:America/New_York
BEGIN:DAYLIGHT
TZOFFSETFROM:-0500
TZOFFSETTO:-0400
TZNAME:EDT
DTSTART:20210314T070000
END:DAYLIGHT
BEGIN:STANDARD
TZOFFSETFROM:-0400
TZOFFSETTO:-0500
TZNAME:EST
DTSTART:20211107T060000
END:STANDARD
BEGIN:DAYLIGHT
TZOFFSETFROM:-0500
TZOFFSETTO:-0400
TZNAME:EDT
DTSTART:20220313T070000
END:DAYLIGHT
BEGIN:STANDARD
TZOFFSETFROM:-0400
TZOFFSETTO:-0500
TZNAME:EST
DTSTART:20221106T060000
END:STANDARD
BEGIN:DAYLIGHT
TZOFFSETFROM:-0500
TZOFFSETTO:-0400
TZNAME:EDT
DTSTART:20230312T070000
END:DAYLIGHT
BEGIN:STANDARD
TZOFFSETFROM:-0400
TZOFFSETTO:-0500
TZNAME:EST
DTSTART:20231105T060000
END:STANDARD
BEGIN:DAYLIGHT
TZOFFSETFROM:-0500
TZOFFSETTO:-0400
TZNAME:EDT
DTSTART:20240310T070000
END:DAYLIGHT
BEGIN:STANDARD
TZOFFSETFROM:-0400
TZOFFSETTO:-0500
TZNAME:EST
DTSTART:20241103T060000
END:STANDARD
BEGIN:DAYLIGHT
TZOFFSETFROM:-0500
TZOFFSETTO:-0400
TZNAME:EDT
DTSTART:20250309T070000
END:DAYLIGHT
BEGIN:STANDARD
TZOFFSETFROM:-0400
TZOFFSETTO:-0500
TZNAME:EST
DTSTART:20251102T060000
END:STANDARD
BEGIN:DAYLIGHT
TZOFFSETFROM:-0500
TZOFFSETTO:-0400
TZNAME:EDT
DTSTART:20260308T070000
END:DAYLIGHT
BEGIN:STANDARD
TZOFFSETFROM:-0400
TZOFFSETTO:-0500
TZNAME:EST
DTSTART:20261101T060000
END:STANDARD
BEGIN:DAYLIGHT
TZOFFSETFROM:-0500
TZOFFSETTO:-0400
TZNAME:EDT
DTSTART:20270314T070000
END:DAYLIGHT
BEGIN:STANDARD
TZOFFSETFROM:-0400
TZOFFSETTO:-0500
TZNAME:EST
DTSTART:20271107T060000
END:STANDARD
END:VTIMEZONE
BEGIN:VEVENT
DTSTART;TZID=America/New_York:20260418T190000
DTEND;TZID=America/New_York:20260418T210000
DTSTAMP:20260423T141314
CREATED:20260112T214653Z
LAST-MODIFIED:20260112T214653Z
UID:1488-1776538800-1776546000@sonic-boom-productions.com
SUMMARY:Nights of the Round Table Comedy - Odeen's at Oak Hills Park Golf Course
DESCRIPTION:Over 18 audience only \n$20 Admission
URL:https://sonic-boom-productions.com/event/nights-of-the-round-table-comedy-odeens-at-oak-hills-park-golf-course-5/
LOCATION:Odeen’s at Oak Hills Golf Course\, 165 Fillow Street\, Norwalk\, CT
CATEGORIES:Comedy Show
ATTACH;FMTTYPE=image/png:https://sonic-boom-productions.com/wp-content/uploads/2022/03/comedy-night-event.png
END:VEVENT
BEGIN:VEVENT
DTSTART;TZID=America/New_York:20260401T160000
DTEND;TZID=America/New_York:20260401T170000
DTSTAMP:20260423T141314
CREATED:20260319T231912Z
LAST-MODIFIED:20260319T231912Z
UID:1531-1775059200-1775062800@sonic-boom-productions.com
SUMMARY:Nights of the Round Table Comedy - Private Event NY
DESCRIPTION:
URL:https://sonic-boom-productions.com/event/nights-of-the-round-table-comedy-private-event-ny-2/
LOCATION:Private Event\, United States
CATEGORIES:Comedy Show
ATTACH;FMTTYPE=image/png:https://sonic-boom-productions.com/wp-content/uploads/2022/03/comedy-night-event.png
END:VEVENT
BEGIN:VEVENT
DTSTART;TZID=America/New_York:20260321T190000
DTEND;TZID=America/New_York:20260321T210000
DTSTAMP:20260423T141314
CREATED:20251124T222943Z
LAST-MODIFIED:20251124T222943Z
UID:1464-1774119600-1774126800@sonic-boom-productions.com
SUMMARY:Nights of the Round Table Comedy - Odeen's at Oak Hills Park Golf Course
DESCRIPTION:Over 18 audience only \n$20 Admission
URL:https://sonic-boom-productions.com/event/nights-of-the-round-table-comedy-odeens-at-oak-hills-park-golf-course-2/
LOCATION:Odeen’s at Oak Hills Golf Course\, 165 Fillow Street\, Norwalk\, CT
CATEGORIES:Comedy Show
ATTACH;FMTTYPE=image/png:https://sonic-boom-productions.com/wp-content/uploads/2022/03/comedy-night-event.png
END:VEVENT
BEGIN:VEVENT
DTSTART;TZID=America/New_York:20260221T190000
DTEND;TZID=America/New_York:20260221T210000
DTSTAMP:20260423T141314
CREATED:20260112T214555Z
LAST-MODIFIED:20260118T165743Z
UID:1486-1771700400-1771707600@sonic-boom-productions.com
SUMMARY:Nights of the Round Table Comedy - LIPschtick Comedy Night - Odeen's at Oak Hills Park Golf Course
DESCRIPTION:Over 18 audience only \n$20 Admission
URL:https://sonic-boom-productions.com/event/nights-of-the-round-table-comedy-odeens-at-oak-hills-park-golf-course-4/
LOCATION:Odeen’s at Oak Hills Golf Course\, 165 Fillow Street\, Norwalk\, CT
CATEGORIES:Comedy Show
ATTACH;FMTTYPE=image/png:https://sonic-boom-productions.com/wp-content/uploads/2025/02/LIPschtick-Logo3.png
END:VEVENT
BEGIN:VEVENT
DTSTART;TZID=America/New_York:20260131T193000
DTEND;TZID=America/New_York:20260131T213000
DTSTAMP:20260423T141314
CREATED:20250926T201842Z
LAST-MODIFIED:20250926T202230Z
UID:1450-1769887800-1769895000@sonic-boom-productions.com
SUMMARY:Nights of the Round Table Comedy Show - Easterseals Waterbury Private Event
DESCRIPTION:  \n  \n 
URL:https://sonic-boom-productions.com/event/nights-of-the-round-table-comedy-show-ueasterseals-fundraiser/
LOCATION:La Bella Vista\, 380 Farmwood Road\, Waterbury\, CT\, 06704\, United States
CATEGORIES:Comedy Show
ATTACH;FMTTYPE=image/png:https://sonic-boom-productions.com/wp-content/uploads/2022/03/comedy-night-event.png
END:VEVENT
BEGIN:VEVENT
DTSTART;TZID=America/New_York:20260117T173000
DTEND;TZID=America/New_York:20260117T180000
DTSTAMP:20260423T141314
CREATED:20251231T183335Z
LAST-MODIFIED:20251231T183445Z
UID:1469-1768671000-1768672800@sonic-boom-productions.com
SUMMARY:Nights of the Round Table Comedy - Birthday Roast\, all Female Comedians (Private Event)
DESCRIPTION:Birthday Roast \nAll Female Lineup
URL:https://sonic-boom-productions.com/event/nights-of-the-round-table-cbirthday-roast-all-female-comedians-private-event/
LOCATION:Private Event – Birthday
CATEGORIES:Comedy Show
ATTACH;FMTTYPE=image/png:https://sonic-boom-productions.com/wp-content/uploads/2022/03/comedy-night-event.png
END:VEVENT
BEGIN:VEVENT
DTSTART;TZID=America/New_York:20260110T190000
DTEND;TZID=America/New_York:20260110T210000
DTSTAMP:20260423T141314
CREATED:20251124T222810Z
LAST-MODIFIED:20251212T003257Z
UID:1462-1768071600-1768078800@sonic-boom-productions.com
SUMMARY:Nights of the Round Table Comedy - Odeen's at Oak Hills Park Golf Course
DESCRIPTION:Over 18 audience only \n$20 Admission
URL:https://sonic-boom-productions.com/event/nights-of-the-round-table-comedy-odeens-at-oak-hills-park-golf-course/
LOCATION:Odeen’s at Oak Hills Golf Course\, 165 Fillow Street\, Norwalk\, CT
CATEGORIES:Comedy Show
ATTACH;FMTTYPE=image/png:https://sonic-boom-productions.com/wp-content/uploads/2022/03/comedy-night-event.png
END:VEVENT
BEGIN:VEVENT
DTSTART;TZID=America/New_York:20251206T190000
DTEND;TZID=America/New_York:20251206T210000
DTSTAMP:20260423T141314
CREATED:20250825T161629Z
LAST-MODIFIED:20251118T205452Z
UID:1436-1765047600-1765054800@sonic-boom-productions.com
SUMMARY:Nights of the Round Table Comedy - 10th ANNUAL Toys for Tots Comedy "FUN-RAISER"
DESCRIPTION:10th ANNUAL\nTOYS FOR TOTS “FUN-RAISER” COMEDY NIGHT: \nBRING A NEW TOY plus $15 CASH/PERSON\,\nor $25 CASH DONATION/PERSON\nGreenwich Lounge Room\nat the Stamford Diner\nReservations strongly recommended\n2 drink minimum & 1 entree per person\n135 Harvard Avenue\, Stamford 203-348-7000 \nTEN YEARS OF TOYS – WE PUT THE FUN IN “FUN-RAISING” – CHECK IT OUT: \nhttps://sonic-boom-productions.com/wp-content/uploads/2025/08/TFT-Xmas-Music.mp4
URL:https://sonic-boom-productions.com/event/nights-of-the-round-table-comedy-10th-annual-toys-for-tots-comedy-fun-raiser/
LOCATION:The Stamford Diner\, 135 Harvard Ave\, Stamford\, CT\, 06902\, United States
CATEGORIES:Comedy Show
ATTACH;FMTTYPE=image/png:https://sonic-boom-productions.com/wp-content/uploads/2025/08/TFT-2025-10th-Annual-Graphic-1.png
END:VEVENT
BEGIN:VEVENT
DTSTART;TZID=America/New_York:20251101T190000
DTEND;TZID=America/New_York:20251101T210000
DTSTAMP:20260423T141314
CREATED:20250203T002702Z
LAST-MODIFIED:20250926T202423Z
UID:1193-1762023600-1762030800@sonic-boom-productions.com
SUMMARY:Nights of the Round Table Comedy - 4th ANNUAL UUGB Comedy Fundraiser
DESCRIPTION:  \n  \n 
URL:https://sonic-boom-productions.com/event/nights-of-the-round-table-comedy-show-uugb-stratford-ct/
LOCATION:UU Stratford\, 275 Huntington Road\, Stratford\, CT\, 06614\, United States
CATEGORIES:Comedy Show
ATTACH;FMTTYPE=image/png:https://sonic-boom-productions.com/wp-content/uploads/2022/03/comedy-night-event.png
END:VEVENT
BEGIN:VEVENT
DTSTART;TZID=America/New_York:20250927T190000
DTEND;TZID=America/New_York:20250927T210000
DTSTAMP:20260423T141314
CREATED:20250825T161331Z
LAST-MODIFIED:20250906T193623Z
UID:1434-1758999600-1759006800@sonic-boom-productions.com
SUMMARY:Nights of the Round Table Comedy - Greenwich Lounge Comedy and Music Club
DESCRIPTION:Over 18 audience only \n$15 Admission\n2 drink minimum &\n1 entree per person\nGreenwich Lounge Comedy and Music Club\nat the Stamford Diner\, 135 Harvard Avenue\nRESERVE NOW: 203-348-7000
URL:https://sonic-boom-productions.com/event/nights-of-the-round-table-comedy-greenwich-lounge/
LOCATION:The Stamford Diner\, 135 Harvard Ave\, Stamford\, CT\, 06902\, United States
CATEGORIES:Comedy Show
ATTACH;FMTTYPE=image/png:https://sonic-boom-productions.com/wp-content/uploads/2022/03/comedy-night-event.png
END:VEVENT
BEGIN:VEVENT
DTSTART;TZID=America/New_York:20250607T190000
DTEND;TZID=America/New_York:20250607T210000
DTSTAMP:20260423T141314
CREATED:20250203T001305Z
LAST-MODIFIED:20250513T145555Z
UID:1183-1749322800-1749330000@sonic-boom-productions.com
SUMMARY:Nights of the Round Table Comedy - Pop-roast Father's Day Comedy Night
DESCRIPTION:Over 18 audience only \n$15 admission\nGreenwich Lounge Room\nat the Stamford Diner\nReservations strongly recommended\n2 drink minimum & 1 entree per person\n135 Harvard Avenue\, Stamford 203-348-7000
URL:https://sonic-boom-productions.com/event/nights-of-the-round-table-comedy-the-greenwich-lounge-at-the-stamford-diner-6/
LOCATION:The Stamford Diner\, 135 Harvard Ave\, Stamford\, CT\, 06902\, United States
CATEGORIES:Comedy Show
ATTACH;FMTTYPE=image/png:https://sonic-boom-productions.com/wp-content/uploads/2025/02/Pop-Roast-Comedy-JUN-2025-Web-image.png
END:VEVENT
BEGIN:VEVENT
DTSTART;TZID=America/New_York:20250308T190000
DTEND;TZID=America/New_York:20250308T210000
DTSTAMP:20260423T141314
CREATED:20250203T001207Z
LAST-MODIFIED:20250217T011239Z
UID:1181-1741460400-1741467600@sonic-boom-productions.com
SUMMARY:LIPschtick Comedy Night - Wicked Funny Women!
DESCRIPTION:$15 admission\nGreenwich Lounge Room\nat the Stamford Diner\nReservations strongly recommended\n2 drink minimum & 1 entree per person\n135 Harvard Avenue\, Stamford 203-348-7000
URL:https://sonic-boom-productions.com/event/lipschtick-comedy-night-wicked-funny-women/
LOCATION:The Stamford Diner\, 135 Harvard Ave\, Stamford\, CT\, 06902\, United States
CATEGORIES:Comedy Show
ATTACH;FMTTYPE=image/png:https://sonic-boom-productions.com/wp-content/uploads/2025/02/LIPschtick-Logo3.png
END:VEVENT
BEGIN:VEVENT
DTSTART;TZID=America/New_York:20241207T190000
DTEND;TZID=America/New_York:20241207T210000
DTSTAMP:20260423T141314
CREATED:20240821T215240Z
LAST-MODIFIED:20241201T174720Z
UID:1153-1733598000-1733605200@sonic-boom-productions.com
SUMMARY:Nights of the Round Table Comedy - Toys for Tots "FUN-RAISER" Comedy Night
DESCRIPTION:TOYS FOR TOTS “FUN-RAISER” COMEDY NIGHT: \nBRING A NEW TOY plus $15 CASH/PERSON\,\nor $25 CASH DONATION/PERSON\nGreenwich Lounge Room\nat the Stamford Diner\nReservations strongly recommended\n2 drink minimum & 1 entree per person\n135 Harvard Avenue\, Stamford 203-348-7000
URL:https://sonic-boom-productions.com/event/nights-of-the-round-table-comedy-toys-for-tots-fun-raiser-comedy-night/
LOCATION:The Stamford Diner\, 135 Harvard Ave\, Stamford\, CT\, 06902\, United States
CATEGORIES:Comedy Show
ATTACH;FMTTYPE=image/png:https://sonic-boom-productions.com/wp-content/uploads/2022/03/comedy-night-event.png
END:VEVENT
BEGIN:VEVENT
DTSTART;TZID=America/New_York:20241116T190000
DTEND;TZID=America/New_York:20241116T210000
DTSTAMP:20260423T141314
CREATED:20240821T215413Z
LAST-MODIFIED:20240821T215535Z
UID:1155-1731783600-1731790800@sonic-boom-productions.com
SUMMARY:Nights of the Round Table Comedy Show - Stratford\, CT
DESCRIPTION:$20 Admission \n 
URL:https://sonic-boom-productions.com/event/nights-of-the-round-table-comedy-show-stratford-ct-3/
LOCATION:UU Stratford\, 275 Huntington Road\, Stratford\, CT\, 06614\, United States
CATEGORIES:Comedy Show
ATTACH;FMTTYPE=image/png:https://sonic-boom-productions.com/wp-content/uploads/2022/03/comedy-night-event.png
END:VEVENT
BEGIN:VEVENT
DTSTART;TZID=America/New_York:20241004T210000
DTEND;TZID=America/New_York:20241004T220000
DTSTAMP:20260423T141314
CREATED:20241008T220449Z
LAST-MODIFIED:20241008T220449Z
UID:1171-1728075600-1728079200@sonic-boom-productions.com
SUMMARY:Nights of the Round Table Comedians - Broadway Comedy Club
DESCRIPTION:Vicki and Tony Sanches \nPerforming in the Red Room \n$25 Admission + 2 drink minimum \n 
URL:https://sonic-boom-productions.com/event/nights-of-the-round-table-comedians-broadway-comedy-club/
LOCATION:Broadway Comedy Club – NY\, 318 West 53rd Street\, New York\, NY\, 10019\, United States
CATEGORIES:Comedy Show
ATTACH;FMTTYPE=image/png:https://sonic-boom-productions.com/wp-content/uploads/2022/03/comedy-night-event.png
END:VEVENT
BEGIN:VEVENT
DTSTART;TZID=America/New_York:20240921T190000
DTEND;TZID=America/New_York:20240921T210000
DTSTAMP:20260423T141314
CREATED:20240621T005951Z
LAST-MODIFIED:20240621T005951Z
UID:1142-1726945200-1726952400@sonic-boom-productions.com
SUMMARY:Nights of the Round Table Comedy - The Greenwich Lounge at The Stamford Diner
DESCRIPTION:$15 admission\nGreenwich Lounge Room\nat the Stamford Diner\nReservations strongly recommended\n2 drink minimum & 1 entree per person\n135 Harvard Avenue\, Stamford 203-348-7000
URL:https://sonic-boom-productions.com/event/nights-of-the-round-table-comedy-the-greenwich-lounge-at-the-stamford-diner-4/
LOCATION:The Stamford Diner\, 135 Harvard Ave\, Stamford\, CT\, 06902\, United States
CATEGORIES:Comedy Show
ATTACH;FMTTYPE=image/png:https://sonic-boom-productions.com/wp-content/uploads/2022/03/comedy-night-event.png
END:VEVENT
BEGIN:VEVENT
DTSTART;TZID=America/New_York:20240720T190000
DTEND;TZID=America/New_York:20240720T210000
DTSTAMP:20260423T141314
CREATED:20240621T005653Z
LAST-MODIFIED:20240621T005822Z
UID:1138-1721502000-1721509200@sonic-boom-productions.com
SUMMARY:Nights of the Round Table Comedy - The Greenwich Lounge at The Stamford Diner
DESCRIPTION:$15 admission\nGreenwich Lounge Room\nat the Stamford Diner\nReservations strongly recommended\n2 drink minimum & 1 entree per person\n135 Harvard Avenue\, Stamford 203-348-7000
URL:https://sonic-boom-productions.com/event/nights-of-the-round-table-comedy-the-greenwich-lounge-at-the-stamford-diner-3/
LOCATION:The Stamford Diner\, 135 Harvard Ave\, Stamford\, CT\, 06902\, United States
CATEGORIES:Comedy Show
ATTACH;FMTTYPE=image/png:https://sonic-boom-productions.com/wp-content/uploads/2022/03/comedy-night-event.png
END:VEVENT
BEGIN:VEVENT
DTSTART;TZID=America/New_York:20240504T190000
DTEND;TZID=America/New_York:20240504T210000
DTSTAMP:20260423T141314
CREATED:20240221T221633Z
LAST-MODIFIED:20240222T155036Z
UID:1087-1714849200-1714856400@sonic-boom-productions.com
SUMMARY:Nights of the Round Table Comedy - The Greenwich Lounge at The Stamford Diner
DESCRIPTION:$15 admission\nGreenwich Lounge Room\nat the Stamford Diner\nReservations strongly recommended\n2 drink minimum & 1 entree per person\n135 Harvard Avenue\, Stamford 203-348-7000
URL:https://sonic-boom-productions.com/event/nights-of-the-round-table-comedy-the-greenwich-lounge-at-the-stamford-diner-2/
LOCATION:The Stamford Diner\, 135 Harvard Ave\, Stamford\, CT\, 06902\, United States
CATEGORIES:Comedy Show
ATTACH;FMTTYPE=image/png:https://sonic-boom-productions.com/wp-content/uploads/2022/03/comedy-night-event.png
END:VEVENT
BEGIN:VEVENT
DTSTART;TZID=America/New_York:20240412T190000
DTEND;TZID=America/New_York:20240412T210000
DTSTAMP:20260423T141314
CREATED:20240123T222508Z
LAST-MODIFIED:20240123T222541Z
UID:1074-1712948400-1712955600@sonic-boom-productions.com
SUMMARY:Nights of the Round Table Comedians - at the CSS Fundraiser
DESCRIPTION:A comedy night to benefit Careers Support Solutions – an organization that helps people with challenges find employment: \nHome
URL:https://sonic-boom-productions.com/event/nights-of-the-round-table-comedians-at-the-css-fundraiser/
LOCATION:Traveler’s Rest\, 25 NY-100\, Ossining\, NY\, 10562
CATEGORIES:Comedy Show
ATTACH;FMTTYPE=image/png:https://sonic-boom-productions.com/wp-content/uploads/2022/03/comedy-night-event.png
END:VEVENT
BEGIN:VEVENT
DTSTART;TZID=America/New_York:20240302T190000
DTEND;TZID=America/New_York:20240302T210000
DTSTAMP:20260423T141314
CREATED:20240221T221313Z
LAST-MODIFIED:20240221T221521Z
UID:1083-1709406000-1709413200@sonic-boom-productions.com
SUMMARY:Nights of the Round Table Comedy - The Greenwich Lounge at The Stamford Diner
DESCRIPTION:$15 admission\nGreenwich Lounge Room\nat the Stamford Diner\nReservations strongly recommended\n2 drink minimum & 1 entree per person\n135 Harvard Avenue\, Stamford 203-348-7000
URL:https://sonic-boom-productions.com/event/nights-of-the-round-table-comedy-the-greenwich-lounge-at-the-stamford-diner/
LOCATION:The Stamford Diner\, 135 Harvard Ave\, Stamford\, CT\, 06902\, United States
CATEGORIES:Comedy Show
ATTACH;FMTTYPE=image/png:https://sonic-boom-productions.com/wp-content/uploads/2022/03/comedy-night-event.png
END:VEVENT
BEGIN:VEVENT
DTSTART;TZID=America/New_York:20240118T190000
DTEND;TZID=America/New_York:20240118T210000
DTSTAMP:20260423T141314
CREATED:20231108T212255Z
LAST-MODIFIED:20231108T212821Z
UID:1033-1705604400-1705611600@sonic-boom-productions.com
SUMMARY:Master Class in Humor Writing\, with Nights of the Round Table Comedians and Wide Open Writing
DESCRIPTION:HOW TO USE HUMOR IN YOUR WRITING  \nThree rubber chickens walk into a salad bar … but do they have clown noses on? Get the answer to questions like that in this Master Class where we will explore using humor to make your writing snap\, crackle\, and pop off the page. Three funny writer folk—including two stand-up comics—will lead this workshop on delving into the subtle differences between writing that is funny-haha and humor that slips on a banana peel and falls flat. (Clown car not included.) \nVicki French-Sanches\nVicki’s creative writing includes stand-up comedy\, sketch comedy\, poetry\, social-issue essays\, and short stories. She has written two books\, one fiction and one non-fiction\, and is working on a third (fiction.) Vicki has been writing and performing comedy for the last eight years. It is her greatest joy to embarrass her three grown children\, while charging them admission at the door. \nTony Sanches \nTony has written and performed stand-up comedy for the last 8 years\, penned a memoir on music\, and written several Twilight Zone-style short stories. He is also a musician who has performed with bands across various genres for almost 30 years. His extensive knowledge of drum equipment\, pro audio\, and lighting allows him to support a range of artists. \nFranny French\nFranny first won distinction (and a butterscotch sundae) in the third grade for a short story about a misunderstood scarecrow. Since then\, her work has appeared in the St. Petersburg Review\, The Ledge\, Public Poetry\, Enizagam\, and other literary publications. She is the recipient of an Oregon Literary Fellowship\, and her short story “Dead Fish” was nominated for a Pushcart Prize. She lives and writes and rewrites in Portland\, Oregon. \n$30 Master Class\nThursday\, January 18th\n7:00pm – 9:00pm (EST)\nOnline via Zoom\n \nMORE INFO AND REGISTRATION HERE
URL:https://sonic-boom-productions.com/event/humor-writing-master-class-with-nights-of-the-round-table-comedians/
CATEGORIES:Comedy Show
ATTACH;FMTTYPE=image/png:https://sonic-boom-productions.com/wp-content/uploads/2022/03/comedy-night-event.png
END:VEVENT
BEGIN:VEVENT
DTSTART;TZID=America/New_York:20231209T190000
DTEND;TZID=America/New_York:20231209T210000
DTSTAMP:20260423T141314
CREATED:20231101T004436Z
LAST-MODIFIED:20231101T004605Z
UID:1030-1702148400-1702155600@sonic-boom-productions.com
SUMMARY:Nights of the Round Table Comedy - Toys for Tots "FUN-RAISER" Comedy Night
DESCRIPTION:BRING A NEW TOY plus $15 CASH/PERSON\,\nor $25 CASH DONATION/PERSON\nGreenwich Lounge Room\nat the Stamford Diner\nReservations strongly recommended\n2 drink minimum & 1 entree per person\n135 Harvard Avenue\, Stamford 203-348-7000
URL:https://sonic-boom-productions.com/event/nights-of-the-round-table-comedy-show-toys-for-tots-fun-raiser-comedy-night/
LOCATION:The Stamford Diner\, 135 Harvard Ave\, Stamford\, CT\, 06902\, United States
CATEGORIES:Comedy Show
ATTACH;FMTTYPE=image/png:https://sonic-boom-productions.com/wp-content/uploads/2022/03/comedy-night-event.png
END:VEVENT
BEGIN:VEVENT
DTSTART;TZID=America/New_York:20231111T190000
DTEND;TZID=America/New_York:20231111T210000
DTSTAMP:20260423T141314
CREATED:20231002T153113Z
LAST-MODIFIED:20231002T153144Z
UID:1028-1699729200-1699736400@sonic-boom-productions.com
SUMMARY:Nights of the Round Table Comedy Show - Stratford\, CT
DESCRIPTION:$20 Admission \n 
URL:https://sonic-boom-productions.com/event/nights-of-the-round-table-comedy-show-stratford-ct-2/
LOCATION:UU Stratford\, 275 Huntington Road\, Stratford\, CT\, 06614\, United States
CATEGORIES:Comedy Show
ATTACH;FMTTYPE=image/png:https://sonic-boom-productions.com/wp-content/uploads/2022/03/comedy-night-event.png
END:VEVENT
BEGIN:VEVENT
DTSTART;TZID=America/New_York:20230909T190000
DTEND;TZID=America/New_York:20230909T210000
DTSTAMP:20260423T141314
CREATED:20230531T214123Z
LAST-MODIFIED:20230531T214123Z
UID:979-1694286000-1694293200@sonic-boom-productions.com
SUMMARY:Nights of the Round Table Comedy Show - The Greenwich Lounge at The Stamford Diner
DESCRIPTION:$15 Admission\, 2 drink minimum & 1 entree per person \nReservations strongly recommended
URL:https://sonic-boom-productions.com/event/nights-of-the-round-table-comedy-show-the-greenwich-lounge-at-the-stamford-diner-2/
LOCATION:The Stamford Diner\, 135 Harvard Ave\, Stamford\, CT\, 06902\, United States
CATEGORIES:Comedy Show
ATTACH;FMTTYPE=image/png:https://sonic-boom-productions.com/wp-content/uploads/2022/03/comedy-night-event.png
END:VEVENT
BEGIN:VEVENT
DTSTART;TZID=America/New_York:20230623T190000
DTEND;TZID=America/New_York:20230623T210000
DTSTAMP:20260423T141314
CREATED:20230531T214050Z
LAST-MODIFIED:20230531T214050Z
UID:978-1687546800-1687554000@sonic-boom-productions.com
SUMMARY:Nights of the Round Table Comedy Show - The Greenwich Lounge at The Stamford Diner
DESCRIPTION:$15 Admission\, 2 drink minimum & 1 entree per person \nReservations strongly recommended
URL:https://sonic-boom-productions.com/event/nights-of-the-round-table-comedy-show-the-greenwich-lounge-at-the-stamford-diner/
LOCATION:The Stamford Diner\, 135 Harvard Ave\, Stamford\, CT\, 06902\, United States
CATEGORIES:Comedy Show
ATTACH;FMTTYPE=image/png:https://sonic-boom-productions.com/wp-content/uploads/2022/03/comedy-night-event.png
END:VEVENT
BEGIN:VEVENT
DTSTART;TZID=America/New_York:20230603T193000
DTEND;TZID=America/New_York:20230603T213000
DTSTAMP:20260423T141314
CREATED:20230520T130156Z
LAST-MODIFIED:20230520T130223Z
UID:973-1685820600-1685827800@sonic-boom-productions.com
SUMMARY:Nights of the Round Table Comedians - Governor's Club LI
DESCRIPTION:Saturday\, June 3 \n7:30 PM\, Doors open 5:30 PM \nTickets only $22 \nPlus 2 item minimum \nMust be 16 & older \nTickets must be prepaid \nCall 9516) 731-3358 \nOr visit: Govs.com
URL:https://sonic-boom-productions.com/event/nights-of-the-round-table-comedians-governors-club-li/
LOCATION:Governor’s Comedy Club – Levittown\, NY\, 90 Division Avenue\, Levittown\, 11756\, United States
CATEGORIES:Comedy Show
ATTACH;FMTTYPE=image/png:https://sonic-boom-productions.com/wp-content/uploads/2022/03/comedy-night-event.png
END:VEVENT
BEGIN:VEVENT
DTSTART;TZID=America/New_York:20230525T173000
DTEND;TZID=America/New_York:20230525T193000
DTSTAMP:20260423T141314
CREATED:20230520T131151Z
LAST-MODIFIED:20230520T131151Z
UID:976-1685035800-1685043000@sonic-boom-productions.com
SUMMARY:Nights of the Round Table Comedians - Comic Strip Live NY
DESCRIPTION:Thursday\, May 25 \nShow starts at 5:30 \nYeah\, early. \nCT invades NYC \nComic Strip Live \n1568 2nd Ave\, NYC \nOver a dozen Connecticut comics “stage” a hilarious takeover! \nTickets available at the door: $15
URL:https://sonic-boom-productions.com/event/nights-of-the-round-table-comedians-comic-strip-live-ny/
LOCATION:Comic Strip Live – NYC\, 1568 2nd Ave\, New York\, NY\, 10028\, United States
CATEGORIES:Comedy Show
ATTACH;FMTTYPE=image/png:https://sonic-boom-productions.com/wp-content/uploads/2022/03/comedy-night-event.png
END:VEVENT
BEGIN:VEVENT
DTSTART;TZID=America/New_York:20230429T190000
DTEND;TZID=America/New_York:20230429T210000
DTSTAMP:20260423T141314
CREATED:20230304T201539Z
LAST-MODIFIED:20230304T214924Z
UID:864-1682794800-1682802000@sonic-boom-productions.com
SUMMARY:Nights of the Round Table Comedy Show - The Greenwich Lounge at The Stamford Diner
DESCRIPTION:$15 Admission\, 2 drink minimum & 1 entree per person \nReservations strongly recommended
URL:https://sonic-boom-productions.com/event/the-greenwich-lounge-at-the-stamford-diner-nights-of-the-round-table-comedy-show-2/
LOCATION:The Stamford Diner\, 135 Harvard Ave\, Stamford\, CT\, 06902\, United States
CATEGORIES:Comedy Show
ATTACH;FMTTYPE=image/png:https://sonic-boom-productions.com/wp-content/uploads/2022/03/comedy-night-event.png
END:VEVENT
BEGIN:VEVENT
DTSTART;TZID=America/New_York:20220910T190000
DTEND;TZID=America/New_York:20220910T210000
DTSTAMP:20260423T141314
CREATED:20220528T175009Z
LAST-MODIFIED:20220528T175009Z
UID:802-1662836400-1662843600@sonic-boom-productions.com
SUMMARY:Nights of the Round Table Comedy Show - Stratford\, CT
DESCRIPTION:$20 Admission \n 
URL:https://sonic-boom-productions.com/event/nights-of-the-round-table-comedy-show-stratford-ct/
LOCATION:UU Stratford\, 275 Huntington Road\, Stratford\, CT\, 06614\, United States
CATEGORIES:Comedy Show
ATTACH;FMTTYPE=image/png:https://sonic-boom-productions.com/wp-content/uploads/2022/03/comedy-night-event.png
END:VEVENT
BEGIN:VEVENT
DTSTART;TZID=America/New_York:20220729T190000
DTEND;TZID=America/New_York:20220729T210000
DTSTAMP:20260423T141314
CREATED:20220528T174756Z
LAST-MODIFIED:20220528T181653Z
UID:800-1659121200-1659128400@sonic-boom-productions.com
SUMMARY:Nights of the Round Table Comedy Show / Sterling Farms
DESCRIPTION:$15 Admission\, 2 drink minimum & 1 entree per person \nReservations strongly recommended
URL:https://sonic-boom-productions.com/event/nights-of-the-round-table-comedy-show-sterling-farms/
LOCATION:The Royal Green / Sterling Farms Golf Course – under the tent\, 1349 Newfield Avenue\, Stamford\, 06905\, United States
CATEGORIES:Comedy Show
ATTACH;FMTTYPE=image/png:https://sonic-boom-productions.com/wp-content/uploads/2022/03/comedy-night-event.png
END:VEVENT
END:VCALENDAR