BEGIN:VCALENDAR
VERSION:2.0
PRODID:-//Sonic Boom Productions - ECPv6.15.20//NONSGML v1.0//EN
CALSCALE:GREGORIAN
METHOD:PUBLISH
X-WR-CALNAME:Sonic Boom Productions
X-ORIGINAL-URL:https://sonic-boom-productions.com
X-WR-CALDESC:Events for Sonic Boom Productions
REFRESH-INTERVAL;VALUE=DURATION:PT1H
X-Robots-Tag:noindex
X-PUBLISHED-TTL:PT1H
BEGIN:VTIMEZONE
TZID:America/New_York
BEGIN:DAYLIGHT
TZOFFSETFROM:-0500
TZOFFSETTO:-0400
TZNAME:EDT
DTSTART:20210314T070000
END:DAYLIGHT
BEGIN:STANDARD
TZOFFSETFROM:-0400
TZOFFSETTO:-0500
TZNAME:EST
DTSTART:20211107T060000
END:STANDARD
BEGIN:DAYLIGHT
TZOFFSETFROM:-0500
TZOFFSETTO:-0400
TZNAME:EDT
DTSTART:20220313T070000
END:DAYLIGHT
BEGIN:STANDARD
TZOFFSETFROM:-0400
TZOFFSETTO:-0500
TZNAME:EST
DTSTART:20221106T060000
END:STANDARD
BEGIN:DAYLIGHT
TZOFFSETFROM:-0500
TZOFFSETTO:-0400
TZNAME:EDT
DTSTART:20230312T070000
END:DAYLIGHT
BEGIN:STANDARD
TZOFFSETFROM:-0400
TZOFFSETTO:-0500
TZNAME:EST
DTSTART:20231105T060000
END:STANDARD
END:VTIMEZONE
BEGIN:VEVENT
DTSTART;TZID=America/New_York:20220420T210000
DTEND;TZID=America/New_York:20220420T223000
DTSTAMP:20260423T182544
CREATED:20220330T003002Z
LAST-MODIFIED:20220425T152703Z
UID:756-1650488400-1650493800@sonic-boom-productions.com
SUMMARY:Carrollton Station\, New Orleans - Nights of the Round Table Comedy
DESCRIPTION:
URL:https://sonic-boom-productions.com/event/carrollton-house-new-orleans-nights-of-the-round-table-comedycomedy-quarter-nola-nights-of-the-round-table-comedy/
LOCATION:Carrollton Station\, 8140 Willow St\, New Orleans\, LA\, 70118\, United States
CATEGORIES:Comedy Show
ATTACH;FMTTYPE=image/jpeg:https://sonic-boom-productions.com/wp-content/uploads/2022/02/Sonic-Boom-Productions-Equipment-Rentals-Pro-Audio.jpg
END:VEVENT
BEGIN:VEVENT
DTSTART;TZID=America/New_York:20220401T190000
DTEND;TZID=America/New_York:20220401T210000
DTSTAMP:20260423T182544
CREATED:20220330T001850Z
LAST-MODIFIED:20220330T005328Z
UID:742-1648839600-1648846800@sonic-boom-productions.com
SUMMARY:Books for Humanity - Nights of the Round Table Comedy
DESCRIPTION:
URL:https://sonic-boom-productions.com/event/books-for-humanity-nights-of-the-round-table-comedy/
LOCATION:Books for Humanity Bookstore\, 67 Central Ave\, Ossining\, NY\, 10562\, United States
CATEGORIES:Comedy Show
ATTACH;FMTTYPE=image/jpeg:https://sonic-boom-productions.com/wp-content/uploads/2022/02/Sonic-Boom-Productions-Equipment-Rentals-Pro-Audio.jpg
END:VEVENT
BEGIN:VEVENT
DTSTART;TZID=America/New_York:20220326T200000
DTEND;TZID=America/New_York:20220326T220000
DTSTAMP:20260423T182544
CREATED:20220306T042503Z
LAST-MODIFIED:20220317T160908Z
UID:651-1648324800-1648332000@sonic-boom-productions.com
SUMMARY:Biscotti’s Ristorante - Fundraiser Comedy Show
DESCRIPTION:Join us for a night of laughter as we raise funds for the New Fairfield High School Girls Lacrosse Team.  Brought to you by Gina O’Connell\, featuring your favorite Nights of the Round Table comedians! \nTicket: $60 at the door.  Ticket price includes an appetizers buffet.
URL:https://sonic-boom-productions.com/event/biscottis-ristorante-fundraiser-comedy-show/
LOCATION:Biscotti’s Ristorante\, 4 Cottontail Road\, New Fairfield\, CT\, 06812\, United States
CATEGORIES:Comedy Show
ATTACH;FMTTYPE=image/jpeg:https://sonic-boom-productions.com/wp-content/uploads/2022/02/Sonic-Boom-Productions-Equipment-Rentals-Pro-Audio.jpg
END:VEVENT
BEGIN:VEVENT
DTSTART;TZID=America/New_York:20220323T203000
DTEND;TZID=America/New_York:20220323T223000
DTSTAMP:20260423T182544
CREATED:20220330T001424Z
LAST-MODIFIED:20220330T001424Z
UID:734-1648067400-1648074600@sonic-boom-productions.com
SUMMARY:Fergie's Pub - Nights of the Round Table Comedy/Humor Poetry
DESCRIPTION:
URL:https://sonic-boom-productions.com/event/fergies-pub-nights-of-the-round-table-comedy-humor-poetry/
LOCATION:Fergie’s Pub\, 1214 Sancom Street\, Philadelphia\, PA\, 19107\, United States
CATEGORIES:Comedy Show
ATTACH;FMTTYPE=image/jpeg:https://sonic-boom-productions.com/wp-content/uploads/2022/02/Sonic-Boom-Productions-Equipment-Rentals-Pro-Audio.jpg
END:VEVENT
BEGIN:VEVENT
DTSTART;TZID=America/New_York:20220319T190000
DTEND;TZID=America/New_York:20220319T210000
DTSTAMP:20260423T182544
CREATED:20220301T225104Z
LAST-MODIFIED:20220317T155438Z
UID:358-1647716400-1647723600@sonic-boom-productions.com
SUMMARY:The Greenwich Lounge at The Stamford Diner - Nights of the Round Table Comedy Show
DESCRIPTION:$10 Admission\, 2 drink minimum & 1 entree per person \nReservations strongly recommended \nNOTE: Due to inclement weather\, this show was rescheduled from March 12th.
URL:https://sonic-boom-productions.com/event/the-greenwich-lounge-at-the-stamford-diner-stamford-ct/
LOCATION:The Stamford Diner\, 135 Harvard Ave\, Stamford\, CT\, 06902\, United States
CATEGORIES:Comedy Show
ATTACH;FMTTYPE=image/jpeg:https://sonic-boom-productions.com/wp-content/uploads/2022/02/Sonic-Boom-Productions-Equipment-Rentals-Pro-Audio.jpg
END:VEVENT
BEGIN:VEVENT
DTSTART;TZID=America/New_York:20220302T193000
DTEND;TZID=America/New_York:20220302T213000
DTSTAMP:20260423T182544
CREATED:20220301T225017Z
LAST-MODIFIED:20220312T184219Z
UID:356-1646249400-1646256600@sonic-boom-productions.com
SUMMARY:The Stress Factory - Nights of the Round Table Comedy Show
DESCRIPTION:
URL:https://sonic-boom-productions.com/event/the-stress-factory-nights-of-the-round-table-comedy-show/
LOCATION:The Stress Factory\, 167 State Street\, Bridgeport\, CT\, 06604\, United States
CATEGORIES:Comedy Show
ATTACH;FMTTYPE=image/jpeg:https://sonic-boom-productions.com/wp-content/uploads/2022/02/Sonic-Boom-Productions-Equipment-Rentals-Pro-Audio.jpg
END:VEVENT
END:VCALENDAR