BEGIN:VCALENDAR
VERSION:2.0
PRODID:-//Sonic Boom Productions - ECPv6.15.20//NONSGML v1.0//EN
CALSCALE:GREGORIAN
METHOD:PUBLISH
X-ORIGINAL-URL:https://sonic-boom-productions.com
X-WR-CALDESC:Events for Sonic Boom Productions
REFRESH-INTERVAL;VALUE=DURATION:PT1H
X-Robots-Tag:noindex
X-PUBLISHED-TTL:PT1H
BEGIN:VTIMEZONE
TZID:America/New_York
BEGIN:DAYLIGHT
TZOFFSETFROM:-0500
TZOFFSETTO:-0400
TZNAME:EDT
DTSTART:20220313T070000
END:DAYLIGHT
BEGIN:STANDARD
TZOFFSETFROM:-0400
TZOFFSETTO:-0500
TZNAME:EST
DTSTART:20221106T060000
END:STANDARD
BEGIN:DAYLIGHT
TZOFFSETFROM:-0500
TZOFFSETTO:-0400
TZNAME:EDT
DTSTART:20230312T070000
END:DAYLIGHT
BEGIN:STANDARD
TZOFFSETFROM:-0400
TZOFFSETTO:-0500
TZNAME:EST
DTSTART:20231105T060000
END:STANDARD
BEGIN:DAYLIGHT
TZOFFSETFROM:-0500
TZOFFSETTO:-0400
TZNAME:EDT
DTSTART:20240310T070000
END:DAYLIGHT
BEGIN:STANDARD
TZOFFSETFROM:-0400
TZOFFSETTO:-0500
TZNAME:EST
DTSTART:20241103T060000
END:STANDARD
END:VTIMEZONE
BEGIN:VEVENT
DTSTART;TZID=America/New_York:20230420T180000
DTEND;TZID=America/New_York:20230420T210000
DTSTAMP:20260426T004144
CREATED:20230304T211353Z
LAST-MODIFIED:20260118T164012Z
UID:878-1682013600-1682024400@sonic-boom-productions.com
SUMMARY:John Verdeschi & Tony Sanches / Acoustic Set - Ferguson Gala
DESCRIPTION:Spotlight artists: John Verdeschi and Tony Sanches \nThe best party in Stamford: “A Novel Affair” – Ferguson Library’s annual gala! \nA Novel Affair is the library’s signature fundraiser. Now in its 12th year\, the event helps us raise funds to buy books for children and adults\, and provide services such as children’s early literacy programs\, job skills training\, English language learning and more. \nThis year\, we are delighted to honor Polly O’Brien Morrow and Pitney Bowes for their extraordinary service to the library and the Stamford community.
URL:https://sonic-boom-productions.com/event/john-verdeschi-tony-sanches-acoustic-set-ferguson-gala/
LOCATION:Ferguson Library\, 1 Public Library Plaza\, Stamford\, CT\, 06901\, United States
CATEGORIES:Live Music
ATTACH;FMTTYPE=image/png:https://sonic-boom-productions.com/wp-content/uploads/2023/03/John-and-Tony-Acoustic-Set.png
END:VEVENT
BEGIN:VEVENT
DTSTART;TZID=America/New_York:20230421T190000
DTEND;TZID=America/New_York:20230421T220000
DTSTAMP:20260426T004144
CREATED:20230307T235914Z
LAST-MODIFIED:20230307T235914Z
UID:903-1682103600-1682114400@sonic-boom-productions.com
SUMMARY:Wavelength Band / La Casa Cafe and Bar
DESCRIPTION:
URL:https://sonic-boom-productions.com/event/wavelength-band-la-casa-cafe-and-bar-4/
LOCATION:LA CASA Cafe and Bar (formerly Murph & Eddy’s)\, 157 Mamaroneck Ave\, Mamaroneck\, 10543\, United States
CATEGORIES:Live Music
ATTACH;FMTTYPE=image/png:https://sonic-boom-productions.com/wp-content/uploads/2022/04/80s-music-event-1.png
END:VEVENT
END:VCALENDAR