BEGIN:VCALENDAR
VERSION:2.0
PRODID:-//Sonic Boom Productions - ECPv6.15.20//NONSGML v1.0//EN
CALSCALE:GREGORIAN
METHOD:PUBLISH
X-WR-CALNAME:Sonic Boom Productions
X-ORIGINAL-URL:https://sonic-boom-productions.com
X-WR-CALDESC:Events for Sonic Boom Productions
REFRESH-INTERVAL;VALUE=DURATION:PT1H
X-Robots-Tag:noindex
X-PUBLISHED-TTL:PT1H
BEGIN:VTIMEZONE
TZID:America/New_York
BEGIN:DAYLIGHT
TZOFFSETFROM:-0500
TZOFFSETTO:-0400
TZNAME:EDT
DTSTART:20240310T070000
END:DAYLIGHT
BEGIN:STANDARD
TZOFFSETFROM:-0400
TZOFFSETTO:-0500
TZNAME:EST
DTSTART:20241103T060000
END:STANDARD
BEGIN:DAYLIGHT
TZOFFSETFROM:-0500
TZOFFSETTO:-0400
TZNAME:EDT
DTSTART:20250309T070000
END:DAYLIGHT
BEGIN:STANDARD
TZOFFSETFROM:-0400
TZOFFSETTO:-0500
TZNAME:EST
DTSTART:20251102T060000
END:STANDARD
BEGIN:DAYLIGHT
TZOFFSETFROM:-0500
TZOFFSETTO:-0400
TZNAME:EDT
DTSTART:20260308T070000
END:DAYLIGHT
BEGIN:STANDARD
TZOFFSETFROM:-0400
TZOFFSETTO:-0500
TZNAME:EST
DTSTART:20261101T060000
END:STANDARD
END:VTIMEZONE
BEGIN:VEVENT
DTSTART;TZID=America/New_York:20250904T190000
DTEND;TZID=America/New_York:20250904T220000
DTSTAMP:20260424T002513
CREATED:20250509T194133Z
LAST-MODIFIED:20260118T164230Z
UID:1284-1757012400-1757023200@sonic-boom-productions.com
SUMMARY:Age Against The Machine - *** POSTPONED TBD *** Halloween Yacht Club
DESCRIPTION:
URL:https://sonic-boom-productions.com/event/age-against-the-machine-halloween-yacht-club-summer-concert-series-stamford/
LOCATION:Halloween Yacht Club\, 10 Seaview Avenue\, Stamford\, CT\, 06902\, United States
CATEGORIES:Live Music
ATTACH;FMTTYPE=image/png:https://sonic-boom-productions.com/wp-content/uploads/2025/04/AATM-poster-graphic-1-copy.png
END:VEVENT
BEGIN:VEVENT
DTSTART;TZID=America/New_York:20250905T183000
DTEND;TZID=America/New_York:20250905T213000
DTSTAMP:20260424T002513
CREATED:20250720T215338Z
LAST-MODIFIED:20260118T164200Z
UID:1331-1757097000-1757107800@sonic-boom-productions.com
SUMMARY:Age Against The Machine - Akin Free Library Fundraiser
DESCRIPTION:
URL:https://sonic-boom-productions.com/event/age-against-the-machine-akin-free-library-fundraiser/
LOCATION:Akin Free Library\, 378 Old Quaker Hill Road\, Pawling\, NY\, 12564\, United States
CATEGORIES:Live Music
ATTACH;FMTTYPE=image/png:https://sonic-boom-productions.com/wp-content/uploads/2025/04/AATM-poster-graphic-1-copy.png
END:VEVENT
BEGIN:VEVENT
DTSTART;TZID=America/New_York:20250913T170000
DTEND;TZID=America/New_York:20250913T190000
DTSTAMP:20260424T002513
CREATED:20250203T002503Z
LAST-MODIFIED:20250509T195306Z
UID:1191-1757782800-1757790000@sonic-boom-productions.com
SUMMARY:The TNT Dyn-O-Mite Band - Patterson NY Blues & BBQ Festival
DESCRIPTION:The event is all day on 9/13 & 14 \nTNT Dyn-O-Mite Band will headline on day one\, at 5:00pm \nPatterson Rotary’s Blues & BBQ Festival: Two days of live music\, great BBQ\, and fun for the whole family. Admission and parking are FREE!
URL:https://sonic-boom-productions.com/event/the-tnt-dyn-o-mite-band-patterson-ny-blues-bbq-festival-2/
LOCATION:Blues and BBQ Festival – Patterson\, NY\, 13 Burdick Road\, Patterson\, NY
CATEGORIES:Live Music
ATTACH;FMTTYPE=image/png:https://sonic-boom-productions.com/wp-content/uploads/2022/04/rb-music-event.png
END:VEVENT
BEGIN:VEVENT
DTSTART;VALUE=DATE:20250920
DTEND;VALUE=DATE:20250921
DTSTAMP:20260424T002513
CREATED:20250720T215527Z
LAST-MODIFIED:20260118T164133Z
UID:1333-1758326400-1758412799@sonic-boom-productions.com
SUMMARY:Age Against The Machine - Private Event\, Stamford
DESCRIPTION:
URL:https://sonic-boom-productions.com/event/age-against-the-machine-private-event-stamford/
LOCATION:Private Event\, United States
CATEGORIES:Live Music
ATTACH;FMTTYPE=image/png:https://sonic-boom-productions.com/wp-content/uploads/2025/04/AATM-poster-graphic-1-copy.png
END:VEVENT
END:VCALENDAR