BEGIN:VCALENDAR
VERSION:2.0
PRODID:-//Sonic Boom Productions - ECPv6.15.20//NONSGML v1.0//EN
CALSCALE:GREGORIAN
METHOD:PUBLISH
X-WR-CALNAME:Sonic Boom Productions
X-ORIGINAL-URL:https://sonic-boom-productions.com
X-WR-CALDESC:Events for Sonic Boom Productions
REFRESH-INTERVAL;VALUE=DURATION:PT1H
X-Robots-Tag:noindex
X-PUBLISHED-TTL:PT1H
BEGIN:VTIMEZONE
TZID:America/New_York
BEGIN:DAYLIGHT
TZOFFSETFROM:-0500
TZOFFSETTO:-0400
TZNAME:EDT
DTSTART:20240310T070000
END:DAYLIGHT
BEGIN:STANDARD
TZOFFSETFROM:-0400
TZOFFSETTO:-0500
TZNAME:EST
DTSTART:20241103T060000
END:STANDARD
BEGIN:DAYLIGHT
TZOFFSETFROM:-0500
TZOFFSETTO:-0400
TZNAME:EDT
DTSTART:20250309T070000
END:DAYLIGHT
BEGIN:STANDARD
TZOFFSETFROM:-0400
TZOFFSETTO:-0500
TZNAME:EST
DTSTART:20251102T060000
END:STANDARD
BEGIN:DAYLIGHT
TZOFFSETFROM:-0500
TZOFFSETTO:-0400
TZNAME:EDT
DTSTART:20260308T070000
END:DAYLIGHT
BEGIN:STANDARD
TZOFFSETFROM:-0400
TZOFFSETTO:-0500
TZNAME:EST
DTSTART:20261101T060000
END:STANDARD
BEGIN:DAYLIGHT
TZOFFSETFROM:-0500
TZOFFSETTO:-0400
TZNAME:EDT
DTSTART:20270314T070000
END:DAYLIGHT
BEGIN:STANDARD
TZOFFSETFROM:-0400
TZOFFSETTO:-0500
TZNAME:EST
DTSTART:20271107T060000
END:STANDARD
END:VTIMEZONE
BEGIN:VEVENT
DTSTART;TZID=America/New_York:20260708T180000
DTEND;TZID=America/New_York:20260708T200000
DTSTAMP:20260423T201348
CREATED:20260312T181145Z
LAST-MODIFIED:20260312T181539Z
UID:1524-1783533600-1783540800@sonic-boom-productions.com
SUMMARY:The TNT Dyn-O-Mite Band - Harbor Point Summer Concert Series / Commons Park
DESCRIPTION:Admission: Free
URL:https://sonic-boom-productions.com/event/the-tnt-dyn-o-mite-band-harbor-point-commons-park-3/
LOCATION:Commons Park / Harbor Point (outside show)\, 201 Commons Park South\, Stamford\, CT\, 06902\, United States
CATEGORIES:Live Music
ATTACH;FMTTYPE=image/png:https://sonic-boom-productions.com/wp-content/uploads/2022/04/rb-music-event.png
END:VEVENT
BEGIN:VEVENT
DTSTART;VALUE=DATE:20260704
DTEND;VALUE=DATE:20260705
DTSTAMP:20260423T201348
CREATED:20260118T163028Z
LAST-MODIFIED:20260118T163423Z
UID:1500-1783123200-1783209599@sonic-boom-productions.com
SUMMARY:Age Against The Machine - July 4th Private Party
DESCRIPTION:
URL:https://sonic-boom-productions.com/event/age-against-the-machine-july-4th-private-party/
LOCATION:Private Event – Stamford\, CT
CATEGORIES:Live Music
ATTACH;FMTTYPE=image/png:https://sonic-boom-productions.com/wp-content/uploads/2025/04/AATM-poster-graphic-1-copy.png
END:VEVENT
BEGIN:VEVENT
DTSTART;TZID=America/New_York:20260628T180000
DTEND;TZID=America/New_York:20260628T210000
DTSTAMP:20260423T201348
CREATED:20260311T142239Z
LAST-MODIFIED:20260311T142943Z
UID:1517-1782669600-1782680400@sonic-boom-productions.com
SUMMARY:Sonic Boom Productions - Music Equipment Rental for Summer Concert Series
DESCRIPTION:The Yorktown Lions Summer Concert Series: Come see our friends the Showtime Dance Band\, playing Motown and much more\, right up today’s hits \nBring family & friends with your lawn chairs & dance moves for many fun nights under the stars! Be sure to come early to get your spot on the field.\nLions will always have drinks & snacks for sale! There will always be 50/50 plus various community partners you can visit in between songs! All money raised will be donated back to the Yorktown Lions! Plus\, we’ll be collecting non perishable and non expired food to deliver to the local food pantries.\nIf it rains- don’t worry! All shows will be moved inside the Yorktown Stage!
URL:https://sonic-boom-productions.com/event/sonic-boom-productions-music-equipment-rental-for-summer-concert-series-5/
LOCATION:Jack DeVito/Veteran’s Memorial Field\, 208-264 Veterans Rd\, Yorktown Heights\, NY\, 10598\, United States
CATEGORIES:Equipment Rental - Drums, Sound, Lighting
ATTACH;FMTTYPE=image/jpeg:https://sonic-boom-productions.com/wp-content/uploads/2022/03/Sonic-Boom-Productions-Pro-Audio-Rental-Stamford-CT.jpeg
END:VEVENT
BEGIN:VEVENT
DTSTART;TZID=America/New_York:20260619T180000
DTEND;TZID=America/New_York:20260619T200000
DTSTAMP:20260423T201348
CREATED:20260311T142435Z
LAST-MODIFIED:20260311T142435Z
UID:1519-1781892000-1781899200@sonic-boom-productions.com
SUMMARY:Sonic Boom Productions - Music Equipment Rental for Summer Concert Series
DESCRIPTION:The Ridge Hill Music on the Hill Summer Concert Series: Come see our friends the Showtime Dance Band\, playing Motown and much more\, right up today’s hits
URL:https://sonic-boom-productions.com/event/sonic-boom-productions-music-equipment-rental-for-summer-concert-series-6/
LOCATION:Music on the Hill Summer Concert Series\, 1 Ridge Hill Boulevard\, Yonkers\, NY\, 10710\, United States
CATEGORIES:Equipment Rental - Drums, Sound, Lighting
ATTACH;FMTTYPE=image/jpeg:https://sonic-boom-productions.com/wp-content/uploads/2022/03/Sonic-Boom-Productions-Pro-Audio-Rental-Stamford-CT.jpeg
END:VEVENT
BEGIN:VEVENT
DTSTART;VALUE=DATE:20260613
DTEND;VALUE=DATE:20260614
DTSTAMP:20260423T201348
CREATED:20260114T200540Z
LAST-MODIFIED:20260118T163445Z
UID:1493-1781308800-1781395199@sonic-boom-productions.com
SUMMARY:Age Against The Machine - Private Party\, Stamford
DESCRIPTION:
URL:https://sonic-boom-productions.com/event/age-against-the-machine-private-party-stamford/
LOCATION:Private Event\, United States
CATEGORIES:Live Music
ATTACH;FMTTYPE=image/png:https://sonic-boom-productions.com/wp-content/uploads/2025/04/AATM-poster-graphic-1-copy.png
END:VEVENT
BEGIN:VEVENT
DTSTART;TZID=America/New_York:20260606T190000
DTEND;TZID=America/New_York:20260606T200000
DTSTAMP:20260423T201348
CREATED:20260402T172501Z
LAST-MODIFIED:20260402T172941Z
UID:1545-1780772400-1780776000@sonic-boom-productions.com
SUMMARY:The TNT Dyn-O-Mite Band - Larchmont Music Festival
DESCRIPTION:2026 Larchmont Music Festival\nTHE TNT DYN-O-MITE BAND will be at Tequila Sunrise from 7-8PM! \nFREE ADMISSION – ALL WELCOME \nOn “Larchmont Music Row” starting at 6pm: each venue has food and drink and great local bands\, so feel feel free to float around and check out each one! \nTHE TNT DYN-O-MITE BAND will be at Tequila Sunrise from 7-8PM!
URL:https://sonic-boom-productions.com/event/the-tnt-dyn-o-mite-band-larchmont-music-festival/
LOCATION:Tequila Sunrise\, 145 Larchmont Ave\, Larchmont\, NY\, 10538\, United States
CATEGORIES:Live Music
ATTACH;FMTTYPE=image/png:https://sonic-boom-productions.com/wp-content/uploads/2022/04/rb-music-event.png
END:VEVENT
BEGIN:VEVENT
DTSTART;TZID=America/New_York:20260605T190000
DTEND;TZID=America/New_York:20260605T220000
DTSTAMP:20260423T201348
CREATED:20260311T141936Z
LAST-MODIFIED:20260311T141936Z
UID:1515-1780686000-1780696800@sonic-boom-productions.com
SUMMARY:The TNT Dyn-O-Mite Band - Odeen’s at Oak Hills Park Golf Course
DESCRIPTION:$10 tickets sold at the door
URL:https://sonic-boom-productions.com/event/the-tnt-dyn-o-mite-band-odeens-at-oak-hills-park-golf-course-2/
LOCATION:Odeen’s at Oak Hills Golf Course\, 165 Fillow Street\, Norwalk\, CT
CATEGORIES:Live Music
ATTACH;FMTTYPE=image/png:https://sonic-boom-productions.com/wp-content/uploads/2022/04/rb-music-event.png
END:VEVENT
BEGIN:VEVENT
DTSTART;TZID=America/New_York:20260604T200000
DTEND;TZID=America/New_York:20260604T220000
DTSTAMP:20260423T201348
CREATED:20260311T142757Z
LAST-MODIFIED:20260311T142757Z
UID:1521-1780603200-1780610400@sonic-boom-productions.com
SUMMARY:Sonic Boom Productions - Music Equipment Rental for Private Event - Greenwich
DESCRIPTION:
URL:https://sonic-boom-productions.com/event/sonic-boom-productions-music-equipment-rental-for-private-event-greenwich/
LOCATION:Christ Church – Greenwich\, 254 East Putnam Avenue\, Greenwich\, CT\, CT\, 06830\, United States
CATEGORIES:Equipment Rental - Drums, Sound, Lighting
ATTACH;FMTTYPE=image/jpeg:https://sonic-boom-productions.com/wp-content/uploads/2022/03/Sonic-Boom-Productions-Pro-Audio-Rental-Stamford-CT.jpeg
END:VEVENT
BEGIN:VEVENT
DTSTART;TZID=America/New_York:20260523T200000
DTEND;TZID=America/New_York:20260523T230000
DTSTAMP:20260423T201348
CREATED:20260107T185703Z
LAST-MODIFIED:20260118T163532Z
UID:1480-1779566400-1779577200@sonic-boom-productions.com
SUMMARY:Age Against The Machine - The Castle Black Rock\, Bridgeport - TWO NIGHTS!
DESCRIPTION:
URL:https://sonic-boom-productions.com/event/age-against-the-machine-the-castle-black-rock-bridgeport-3/
LOCATION:The Castle Black Rock\, 3171 Fairfield Ave\, Bridgeport\, CT\, 06605\, United States
CATEGORIES:Live Music
ATTACH;FMTTYPE=image/png:https://sonic-boom-productions.com/wp-content/uploads/2025/04/AATM-poster-graphic-1-copy.png
END:VEVENT
BEGIN:VEVENT
DTSTART;TZID=America/New_York:20260522T200000
DTEND;TZID=America/New_York:20260522T230000
DTSTAMP:20260423T201348
CREATED:20260107T185512Z
LAST-MODIFIED:20260118T163554Z
UID:1478-1779480000-1779490800@sonic-boom-productions.com
SUMMARY:Age Against The Machine - The Castle Black Rock\, Bridgeport - TWO NIGHTS!
DESCRIPTION:
URL:https://sonic-boom-productions.com/event/age-against-the-machine-the-castle-black-rock-bridgeport-two-nights/
LOCATION:The Castle Black Rock\, 3171 Fairfield Ave\, Bridgeport\, CT\, 06605\, United States
CATEGORIES:Live Music
ATTACH;FMTTYPE=image/png:https://sonic-boom-productions.com/wp-content/uploads/2025/04/AATM-poster-graphic-1-copy.png
END:VEVENT
BEGIN:VEVENT
DTSTART;TZID=America/New_York:20260516T190000
DTEND;TZID=America/New_York:20260516T220000
DTSTAMP:20260423T201348
CREATED:20260319T232510Z
LAST-MODIFIED:20260319T232510Z
UID:1537-1778958000-1778968800@sonic-boom-productions.com
SUMMARY:The TNT Dyn-O-Mite Band - Bar Aida\, Larchmont
DESCRIPTION:
URL:https://sonic-boom-productions.com/event/the-tnt-dyn-o-mite-band-bar-aida-larchmont/
LOCATION:Bar Aida\, 2118 Boston Post Rd\, Larchmont\, NY\, 10538\, United States
CATEGORIES:Live Music
ATTACH;FMTTYPE=image/png:https://sonic-boom-productions.com/wp-content/uploads/2022/04/rb-music-event.png
END:VEVENT
BEGIN:VEVENT
DTSTART;TZID=America/New_York:20260516T190000
DTEND;TZID=America/New_York:20260516T210000
DTSTAMP:20260423T201348
CREATED:20251124T223059Z
LAST-MODIFIED:20251211T011210Z
UID:1466-1778958000-1778965200@sonic-boom-productions.com
SUMMARY:Nights of the Round Table Comedy - Odeen's at Oak Hills Park Golf Course
DESCRIPTION:Over 18 audience only \n$20 Admission
URL:https://sonic-boom-productions.com/event/nights-of-the-round-table-comedy-odeens-at-oak-hills-park-golf-course-3/
LOCATION:Odeen’s at Oak Hills Golf Course\, 165 Fillow Street\, Norwalk\, CT
CATEGORIES:Comedy Show
ATTACH;FMTTYPE=image/png:https://sonic-boom-productions.com/wp-content/uploads/2022/03/comedy-night-event.png
END:VEVENT
BEGIN:VEVENT
DTSTART;TZID=America/New_York:20260425T190000
DTEND;TZID=America/New_York:20260425T210000
DTSTAMP:20260423T201348
CREATED:20260311T141726Z
LAST-MODIFIED:20260311T141803Z
UID:1513-1777143600-1777150800@sonic-boom-productions.com
SUMMARY:Nights of the Round Table Comedy - Private Event NY
DESCRIPTION:
URL:https://sonic-boom-productions.com/event/nights-of-the-round-table-comedy-private-event-ny/
LOCATION:Private Event\, United States
CATEGORIES:Comedy Show
ATTACH;FMTTYPE=image/png:https://sonic-boom-productions.com/wp-content/uploads/2022/03/comedy-night-event.png
END:VEVENT
BEGIN:VEVENT
DTSTART;TZID=America/New_York:20260418T190000
DTEND;TZID=America/New_York:20260418T210000
DTSTAMP:20260423T201348
CREATED:20260112T214653Z
LAST-MODIFIED:20260112T214653Z
UID:1488-1776538800-1776546000@sonic-boom-productions.com
SUMMARY:Nights of the Round Table Comedy - Odeen's at Oak Hills Park Golf Course
DESCRIPTION:Over 18 audience only \n$20 Admission
URL:https://sonic-boom-productions.com/event/nights-of-the-round-table-comedy-odeens-at-oak-hills-park-golf-course-5/
LOCATION:Odeen’s at Oak Hills Golf Course\, 165 Fillow Street\, Norwalk\, CT
CATEGORIES:Comedy Show
ATTACH;FMTTYPE=image/png:https://sonic-boom-productions.com/wp-content/uploads/2022/03/comedy-night-event.png
END:VEVENT
BEGIN:VEVENT
DTSTART;TZID=America/New_York:20260416T180000
DTEND;TZID=America/New_York:20260416T203000
DTSTAMP:20260423T201348
CREATED:20260107T185332Z
LAST-MODIFIED:20260107T185332Z
UID:1476-1776362400-1776371400@sonic-boom-productions.com
SUMMARY:John Verdeschi & Tony Sanches / Acoustic Elements - Ferguson Gala
DESCRIPTION:Spotlight artists: John Verdeschi and Tony Sanches \nThe best party in Stamford: “A Novel Affair” – Ferguson Library’s annual gala! \nFOOD / DRINKS included – You could make a full dinner from the tons of food vendors we’ll have! \nA Novel Affair is the library’s signature fundraiser. This fabulous event helps us raise funds to buy books for children and adults\, and provide services such as children’s early literacy programs\, job skills training\, English language learning and more!
URL:https://sonic-boom-productions.com/event/john-verdeschi-tony-sanches-acoustic-elements-ferguson-gala/
LOCATION:Ferguson Library\, 1 Public Library Plaza\, Stamford\, CT\, 06901\, United States
CATEGORIES:Live Music
ATTACH;FMTTYPE=image/png:https://sonic-boom-productions.com/wp-content/uploads/2023/03/John-and-Tony-Acoustic-Set.png
END:VEVENT
BEGIN:VEVENT
DTSTART;TZID=America/New_York:20260411T190000
DTEND;TZID=America/New_York:20260411T220000
DTSTAMP:20260423T201348
CREATED:20260107T185118Z
LAST-MODIFIED:20260107T185118Z
UID:1474-1775934000-1775944800@sonic-boom-productions.com
SUMMARY:The TNT Dyn-O-Mite Band - Third Place by Half Full Brewery
DESCRIPTION:
URL:https://sonic-boom-productions.com/event/the-tnt-dyn-o-mite-band-third-place-by-half-full-brewery/
LOCATION:Third Place by Half Full Brewery\, 575 Pacific Street\, Stamford\, CT\, 06902
CATEGORIES:Live Music
ATTACH;FMTTYPE=image/png:https://sonic-boom-productions.com/wp-content/uploads/2022/04/rb-music-event.png
END:VEVENT
BEGIN:VEVENT
DTSTART;TZID=America/New_York:20260409T190000
DTEND;TZID=America/New_York:20260409T220000
DTSTAMP:20260423T201348
CREATED:20260319T232400Z
LAST-MODIFIED:20260319T232400Z
UID:1535-1775761200-1775772000@sonic-boom-productions.com
SUMMARY:The TNT Dyn-O-Mite Band - Bar Aida\, Larchmont
DESCRIPTION:
URL:https://sonic-boom-productions.com/event/the-tnt-dyn-o-mite-band-obar-aida-larchmont/
LOCATION:Bar Aida\, 2118 Boston Post Rd\, Larchmont\, NY\, 10538\, United States
CATEGORIES:Live Music
ATTACH;FMTTYPE=image/png:https://sonic-boom-productions.com/wp-content/uploads/2022/04/rb-music-event.png
END:VEVENT
BEGIN:VEVENT
DTSTART;TZID=America/New_York:20260401T160000
DTEND;TZID=America/New_York:20260401T170000
DTSTAMP:20260423T201348
CREATED:20260319T231912Z
LAST-MODIFIED:20260319T231912Z
UID:1531-1775059200-1775062800@sonic-boom-productions.com
SUMMARY:Nights of the Round Table Comedy - Private Event NY
DESCRIPTION:
URL:https://sonic-boom-productions.com/event/nights-of-the-round-table-comedy-private-event-ny-2/
LOCATION:Private Event\, United States
CATEGORIES:Comedy Show
ATTACH;FMTTYPE=image/png:https://sonic-boom-productions.com/wp-content/uploads/2022/03/comedy-night-event.png
END:VEVENT
BEGIN:VEVENT
DTSTART;TZID=America/New_York:20260321T190000
DTEND;TZID=America/New_York:20260321T210000
DTSTAMP:20260423T201348
CREATED:20251124T222943Z
LAST-MODIFIED:20251124T222943Z
UID:1464-1774119600-1774126800@sonic-boom-productions.com
SUMMARY:Nights of the Round Table Comedy - Odeen's at Oak Hills Park Golf Course
DESCRIPTION:Over 18 audience only \n$20 Admission
URL:https://sonic-boom-productions.com/event/nights-of-the-round-table-comedy-odeens-at-oak-hills-park-golf-course-2/
LOCATION:Odeen’s at Oak Hills Golf Course\, 165 Fillow Street\, Norwalk\, CT
CATEGORIES:Comedy Show
ATTACH;FMTTYPE=image/png:https://sonic-boom-productions.com/wp-content/uploads/2022/03/comedy-night-event.png
END:VEVENT
BEGIN:VEVENT
DTSTART;TZID=America/New_York:20260221T190000
DTEND;TZID=America/New_York:20260221T210000
DTSTAMP:20260423T201348
CREATED:20260112T214555Z
LAST-MODIFIED:20260118T165743Z
UID:1486-1771700400-1771707600@sonic-boom-productions.com
SUMMARY:Nights of the Round Table Comedy - LIPschtick Comedy Night - Odeen's at Oak Hills Park Golf Course
DESCRIPTION:Over 18 audience only \n$20 Admission
URL:https://sonic-boom-productions.com/event/nights-of-the-round-table-comedy-odeens-at-oak-hills-park-golf-course-4/
LOCATION:Odeen’s at Oak Hills Golf Course\, 165 Fillow Street\, Norwalk\, CT
CATEGORIES:Comedy Show
ATTACH;FMTTYPE=image/png:https://sonic-boom-productions.com/wp-content/uploads/2025/02/LIPschtick-Logo3.png
END:VEVENT
BEGIN:VEVENT
DTSTART;TZID=America/New_York:20260131T193000
DTEND;TZID=America/New_York:20260131T213000
DTSTAMP:20260423T201348
CREATED:20250926T201842Z
LAST-MODIFIED:20250926T202230Z
UID:1450-1769887800-1769895000@sonic-boom-productions.com
SUMMARY:Nights of the Round Table Comedy Show - Easterseals Waterbury Private Event
DESCRIPTION:  \n  \n 
URL:https://sonic-boom-productions.com/event/nights-of-the-round-table-comedy-show-ueasterseals-fundraiser/
LOCATION:La Bella Vista\, 380 Farmwood Road\, Waterbury\, CT\, 06704\, United States
CATEGORIES:Comedy Show
ATTACH;FMTTYPE=image/png:https://sonic-boom-productions.com/wp-content/uploads/2022/03/comedy-night-event.png
END:VEVENT
BEGIN:VEVENT
DTSTART;TZID=America/New_York:20260117T173000
DTEND;TZID=America/New_York:20260117T180000
DTSTAMP:20260423T201348
CREATED:20251231T183335Z
LAST-MODIFIED:20251231T183445Z
UID:1469-1768671000-1768672800@sonic-boom-productions.com
SUMMARY:Nights of the Round Table Comedy - Birthday Roast\, all Female Comedians (Private Event)
DESCRIPTION:Birthday Roast \nAll Female Lineup
URL:https://sonic-boom-productions.com/event/nights-of-the-round-table-cbirthday-roast-all-female-comedians-private-event/
LOCATION:Private Event – Birthday
CATEGORIES:Comedy Show
ATTACH;FMTTYPE=image/png:https://sonic-boom-productions.com/wp-content/uploads/2022/03/comedy-night-event.png
END:VEVENT
BEGIN:VEVENT
DTSTART;TZID=America/New_York:20260110T190000
DTEND;TZID=America/New_York:20260110T210000
DTSTAMP:20260423T201348
CREATED:20251124T222810Z
LAST-MODIFIED:20251212T003257Z
UID:1462-1768071600-1768078800@sonic-boom-productions.com
SUMMARY:Nights of the Round Table Comedy - Odeen's at Oak Hills Park Golf Course
DESCRIPTION:Over 18 audience only \n$20 Admission
URL:https://sonic-boom-productions.com/event/nights-of-the-round-table-comedy-odeens-at-oak-hills-park-golf-course/
LOCATION:Odeen’s at Oak Hills Golf Course\, 165 Fillow Street\, Norwalk\, CT
CATEGORIES:Comedy Show
ATTACH;FMTTYPE=image/png:https://sonic-boom-productions.com/wp-content/uploads/2022/03/comedy-night-event.png
END:VEVENT
BEGIN:VEVENT
DTSTART;VALUE=DATE:20251230
DTEND;VALUE=DATE:20251231
DTSTAMP:20260423T201348
CREATED:20250720T221358Z
LAST-MODIFIED:20260118T163630Z
UID:1345-1767052800-1767139199@sonic-boom-productions.com
SUMMARY:Age Against The Machine - Private Event\, Opening for The English Beat
DESCRIPTION:
URL:https://sonic-boom-productions.com/event/age-against-the-machine-private-event-opening-for-the-english-beat/
LOCATION:Private Event – Opening for The English Beat
CATEGORIES:Live Music
ATTACH;FMTTYPE=image/png:https://sonic-boom-productions.com/wp-content/uploads/2025/04/AATM-poster-graphic-1-copy.png
END:VEVENT
BEGIN:VEVENT
DTSTART;TZID=America/New_York:20251206T190000
DTEND;TZID=America/New_York:20251206T210000
DTSTAMP:20260423T201348
CREATED:20250825T161629Z
LAST-MODIFIED:20251118T205452Z
UID:1436-1765047600-1765054800@sonic-boom-productions.com
SUMMARY:Nights of the Round Table Comedy - 10th ANNUAL Toys for Tots Comedy "FUN-RAISER"
DESCRIPTION:10th ANNUAL\nTOYS FOR TOTS “FUN-RAISER” COMEDY NIGHT: \nBRING A NEW TOY plus $15 CASH/PERSON\,\nor $25 CASH DONATION/PERSON\nGreenwich Lounge Room\nat the Stamford Diner\nReservations strongly recommended\n2 drink minimum & 1 entree per person\n135 Harvard Avenue\, Stamford 203-348-7000 \nTEN YEARS OF TOYS – WE PUT THE FUN IN “FUN-RAISING” – CHECK IT OUT: \nhttps://sonic-boom-productions.com/wp-content/uploads/2025/08/TFT-Xmas-Music.mp4
URL:https://sonic-boom-productions.com/event/nights-of-the-round-table-comedy-10th-annual-toys-for-tots-comedy-fun-raiser/
LOCATION:The Stamford Diner\, 135 Harvard Ave\, Stamford\, CT\, 06902\, United States
CATEGORIES:Comedy Show
ATTACH;FMTTYPE=image/png:https://sonic-boom-productions.com/wp-content/uploads/2025/08/TFT-2025-10th-Annual-Graphic-1.png
END:VEVENT
BEGIN:VEVENT
DTSTART;TZID=America/New_York:20251101T190000
DTEND;TZID=America/New_York:20251101T210000
DTSTAMP:20260423T201348
CREATED:20250203T002702Z
LAST-MODIFIED:20250926T202423Z
UID:1193-1762023600-1762030800@sonic-boom-productions.com
SUMMARY:Nights of the Round Table Comedy - 4th ANNUAL UUGB Comedy Fundraiser
DESCRIPTION:  \n  \n 
URL:https://sonic-boom-productions.com/event/nights-of-the-round-table-comedy-show-uugb-stratford-ct/
LOCATION:UU Stratford\, 275 Huntington Road\, Stratford\, CT\, 06614\, United States
CATEGORIES:Comedy Show
ATTACH;FMTTYPE=image/png:https://sonic-boom-productions.com/wp-content/uploads/2022/03/comedy-night-event.png
END:VEVENT
BEGIN:VEVENT
DTSTART;VALUE=DATE:20251011
DTEND;VALUE=DATE:20251012
DTSTAMP:20260423T201348
CREATED:20250509T194303Z
LAST-MODIFIED:20260118T163706Z
UID:1286-1760140800-1760227199@sonic-boom-productions.com
SUMMARY:Age Against The Machine - Wedding Reception\, Rye
DESCRIPTION:
URL:https://sonic-boom-productions.com/event/age-against-the-machine-wedding-reception-rye/
LOCATION:Private Event\, United States
CATEGORIES:Live Music
ATTACH;FMTTYPE=image/png:https://sonic-boom-productions.com/wp-content/uploads/2025/04/AATM-poster-graphic-1-copy.png
END:VEVENT
BEGIN:VEVENT
DTSTART;TZID=America/New_York:20251003T200000
DTEND;TZID=America/New_York:20251003T230000
DTSTAMP:20260423T201348
CREATED:20250720T215808Z
LAST-MODIFIED:20260118T164106Z
UID:1335-1759521600-1759532400@sonic-boom-productions.com
SUMMARY:Age Against The Machine - The Castle Black Rock\, Bridgeport
DESCRIPTION:
URL:https://sonic-boom-productions.com/event/age-against-the-machine-the-castle-black-rock-bridgeport/
LOCATION:The Castle Black Rock\, 3171 Fairfield Ave\, Bridgeport\, CT\, 06605\, United States
CATEGORIES:Live Music
ATTACH;FMTTYPE=image/png:https://sonic-boom-productions.com/wp-content/uploads/2025/04/AATM-poster-graphic-1-copy.png
END:VEVENT
BEGIN:VEVENT
DTSTART;TZID=America/New_York:20250927T190000
DTEND;TZID=America/New_York:20250927T210000
DTSTAMP:20260423T201348
CREATED:20250825T161331Z
LAST-MODIFIED:20250906T193623Z
UID:1434-1758999600-1759006800@sonic-boom-productions.com
SUMMARY:Nights of the Round Table Comedy - Greenwich Lounge Comedy and Music Club
DESCRIPTION:Over 18 audience only \n$15 Admission\n2 drink minimum &\n1 entree per person\nGreenwich Lounge Comedy and Music Club\nat the Stamford Diner\, 135 Harvard Avenue\nRESERVE NOW: 203-348-7000
URL:https://sonic-boom-productions.com/event/nights-of-the-round-table-comedy-greenwich-lounge/
LOCATION:The Stamford Diner\, 135 Harvard Ave\, Stamford\, CT\, 06902\, United States
CATEGORIES:Comedy Show
ATTACH;FMTTYPE=image/png:https://sonic-boom-productions.com/wp-content/uploads/2022/03/comedy-night-event.png
END:VEVENT
BEGIN:VEVENT
DTSTART;VALUE=DATE:20250920
DTEND;VALUE=DATE:20250921
DTSTAMP:20260423T201348
CREATED:20250720T215527Z
LAST-MODIFIED:20260118T164133Z
UID:1333-1758326400-1758412799@sonic-boom-productions.com
SUMMARY:Age Against The Machine - Private Event\, Stamford
DESCRIPTION:
URL:https://sonic-boom-productions.com/event/age-against-the-machine-private-event-stamford/
LOCATION:Private Event\, United States
CATEGORIES:Live Music
ATTACH;FMTTYPE=image/png:https://sonic-boom-productions.com/wp-content/uploads/2025/04/AATM-poster-graphic-1-copy.png
END:VEVENT
END:VCALENDAR