BEGIN:VCALENDAR
VERSION:2.0
PRODID:-//Sonic Boom Productions - ECPv6.15.20//NONSGML v1.0//EN
CALSCALE:GREGORIAN
METHOD:PUBLISH
X-WR-CALNAME:Sonic Boom Productions
X-ORIGINAL-URL:https://sonic-boom-productions.com
X-WR-CALDESC:Events for Sonic Boom Productions
REFRESH-INTERVAL;VALUE=DURATION:PT1H
X-Robots-Tag:noindex
X-PUBLISHED-TTL:PT1H
BEGIN:VTIMEZONE
TZID:America/New_York
BEGIN:DAYLIGHT
TZOFFSETFROM:-0500
TZOFFSETTO:-0400
TZNAME:EDT
DTSTART:20230312T070000
END:DAYLIGHT
BEGIN:STANDARD
TZOFFSETFROM:-0400
TZOFFSETTO:-0500
TZNAME:EST
DTSTART:20231105T060000
END:STANDARD
BEGIN:DAYLIGHT
TZOFFSETFROM:-0500
TZOFFSETTO:-0400
TZNAME:EDT
DTSTART:20240310T070000
END:DAYLIGHT
BEGIN:STANDARD
TZOFFSETFROM:-0400
TZOFFSETTO:-0500
TZNAME:EST
DTSTART:20241103T060000
END:STANDARD
BEGIN:DAYLIGHT
TZOFFSETFROM:-0500
TZOFFSETTO:-0400
TZNAME:EDT
DTSTART:20250309T070000
END:DAYLIGHT
BEGIN:STANDARD
TZOFFSETFROM:-0400
TZOFFSETTO:-0500
TZNAME:EST
DTSTART:20251102T060000
END:STANDARD
BEGIN:DAYLIGHT
TZOFFSETFROM:-0500
TZOFFSETTO:-0400
TZNAME:EDT
DTSTART:20260308T070000
END:DAYLIGHT
BEGIN:STANDARD
TZOFFSETFROM:-0400
TZOFFSETTO:-0500
TZNAME:EST
DTSTART:20261101T060000
END:STANDARD
END:VTIMEZONE
BEGIN:VEVENT
DTSTART;TZID=America/New_York:20250308T190000
DTEND;TZID=America/New_York:20250308T210000
DTSTAMP:20260423T155232
CREATED:20250203T001207Z
LAST-MODIFIED:20250217T011239Z
UID:1181-1741460400-1741467600@sonic-boom-productions.com
SUMMARY:LIPschtick Comedy Night - Wicked Funny Women!
DESCRIPTION:$15 admission\nGreenwich Lounge Room\nat the Stamford Diner\nReservations strongly recommended\n2 drink minimum & 1 entree per person\n135 Harvard Avenue\, Stamford 203-348-7000
URL:https://sonic-boom-productions.com/event/lipschtick-comedy-night-wicked-funny-women/
LOCATION:The Stamford Diner\, 135 Harvard Ave\, Stamford\, CT\, 06902\, United States
CATEGORIES:Comedy Show
ATTACH;FMTTYPE=image/png:https://sonic-boom-productions.com/wp-content/uploads/2025/02/LIPschtick-Logo3.png
END:VEVENT
BEGIN:VEVENT
DTSTART;TZID=America/New_York:20250228T190000
DTEND;TZID=America/New_York:20250228T220000
DTSTAMP:20260423T155232
CREATED:20250217T003655Z
LAST-MODIFIED:20260118T165040Z
UID:1207-1740769200-1740780000@sonic-boom-productions.com
SUMMARY:The TNT Dyn-O-Mite Band - Odeen's at Oak Hills Golf Course
DESCRIPTION:
URL:https://sonic-boom-productions.com/event/the-tnt-dyn-o-mite-band-odeens-at-oak-hills-golf-course/
LOCATION:Odeen’s at Oak Hills Golf Course\, 165 Fillow Street\, Norwalk\, CT
CATEGORIES:Live Music
ATTACH;FMTTYPE=image/png:https://sonic-boom-productions.com/wp-content/uploads/2022/04/rb-music-event.png
END:VEVENT
BEGIN:VEVENT
DTSTART;TZID=America/New_York:20250118T190000
DTEND;TZID=America/New_York:20250118T220000
DTSTAMP:20260423T155232
CREATED:20241201T174401Z
LAST-MODIFIED:20241201T174401Z
UID:1176-1737226800-1737237600@sonic-boom-productions.com
SUMMARY:The TNT Dyn-O-Mite Band – La Casa Cafe and Bar
DESCRIPTION:
URL:https://sonic-boom-productions.com/event/the-tnt-dyn-o-mite-band-la-casa-cafe-and-bar-3/
LOCATION:LA CASA Cafe and Bar (formerly Murph & Eddy’s)\, 157 Mamaroneck Ave\, Mamaroneck\, 10543\, United States
CATEGORIES:Live Music
ATTACH;FMTTYPE=image/png:https://sonic-boom-productions.com/wp-content/uploads/2022/04/rb-music-event.png
END:VEVENT
BEGIN:VEVENT
DTSTART;TZID=America/New_York:20241214T193000
DTEND;TZID=America/New_York:20241214T223000
DTSTAMP:20260423T155232
CREATED:20241201T174159Z
LAST-MODIFIED:20241201T174520Z
UID:1174-1734204600-1734215400@sonic-boom-productions.com
SUMMARY:The TNT Dyn-O-Mite Band - Fiddler's Green\, Stamford
DESCRIPTION:
URL:https://sonic-boom-productions.com/event/the-tnt-dyn-o-mite-band-fiddlers-green-stamford-6/
LOCATION:Fiddler’s Green\, 280 Shippan Avenue\, Stamford\, 06902\, United States
CATEGORIES:Live Music
ATTACH;FMTTYPE=image/png:https://sonic-boom-productions.com/wp-content/uploads/2022/04/rb-music-event.png
END:VEVENT
BEGIN:VEVENT
DTSTART;TZID=America/New_York:20241207T190000
DTEND;TZID=America/New_York:20241207T210000
DTSTAMP:20260423T155232
CREATED:20240821T215240Z
LAST-MODIFIED:20241201T174720Z
UID:1153-1733598000-1733605200@sonic-boom-productions.com
SUMMARY:Nights of the Round Table Comedy - Toys for Tots "FUN-RAISER" Comedy Night
DESCRIPTION:TOYS FOR TOTS “FUN-RAISER” COMEDY NIGHT: \nBRING A NEW TOY plus $15 CASH/PERSON\,\nor $25 CASH DONATION/PERSON\nGreenwich Lounge Room\nat the Stamford Diner\nReservations strongly recommended\n2 drink minimum & 1 entree per person\n135 Harvard Avenue\, Stamford 203-348-7000
URL:https://sonic-boom-productions.com/event/nights-of-the-round-table-comedy-toys-for-tots-fun-raiser-comedy-night/
LOCATION:The Stamford Diner\, 135 Harvard Ave\, Stamford\, CT\, 06902\, United States
CATEGORIES:Comedy Show
ATTACH;FMTTYPE=image/png:https://sonic-boom-productions.com/wp-content/uploads/2022/03/comedy-night-event.png
END:VEVENT
BEGIN:VEVENT
DTSTART;TZID=America/New_York:20241116T190000
DTEND;TZID=America/New_York:20241116T210000
DTSTAMP:20260423T155232
CREATED:20240821T215413Z
LAST-MODIFIED:20240821T215535Z
UID:1155-1731783600-1731790800@sonic-boom-productions.com
SUMMARY:Nights of the Round Table Comedy Show - Stratford\, CT
DESCRIPTION:$20 Admission \n 
URL:https://sonic-boom-productions.com/event/nights-of-the-round-table-comedy-show-stratford-ct-3/
LOCATION:UU Stratford\, 275 Huntington Road\, Stratford\, CT\, 06614\, United States
CATEGORIES:Comedy Show
ATTACH;FMTTYPE=image/png:https://sonic-boom-productions.com/wp-content/uploads/2022/03/comedy-night-event.png
END:VEVENT
BEGIN:VEVENT
DTSTART;TZID=America/New_York:20241115T190000
DTEND;TZID=America/New_York:20241115T220000
DTSTAMP:20260423T155232
CREATED:20240820T233638Z
LAST-MODIFIED:20240918T005336Z
UID:1148-1731697200-1731708000@sonic-boom-productions.com
SUMMARY:The TNT Dyn-O-Mite Band – La Casa Cafe and Bar
DESCRIPTION:
URL:https://sonic-boom-productions.com/event/the-tnt-dyn-o-mite-band-la-casa-cafe-and-bar-2/
LOCATION:LA CASA Cafe and Bar (formerly Murph & Eddy’s)\, 157 Mamaroneck Ave\, Mamaroneck\, 10543\, United States
CATEGORIES:Live Music
ATTACH;FMTTYPE=image/png:https://sonic-boom-productions.com/wp-content/uploads/2022/04/rb-music-event.png
END:VEVENT
BEGIN:VEVENT
DTSTART;VALUE=DATE:20241026
DTEND;VALUE=DATE:20241027
DTSTAMP:20260423T155232
CREATED:20240918T010239Z
LAST-MODIFIED:20260118T165123Z
UID:1166-1729900800-1729987199@sonic-boom-productions.com
SUMMARY:The TNT Dyn-O-Mite Band - Private Party
DESCRIPTION:
URL:https://sonic-boom-productions.com/event/the-tnt-dyn-o-mite-band-private-party-2/
LOCATION:Private Event\, United States
CATEGORIES:Live Music
ATTACH;FMTTYPE=image/png:https://sonic-boom-productions.com/wp-content/uploads/2022/04/rb-music-event.png
END:VEVENT
BEGIN:VEVENT
DTSTART;TZID=America/New_York:20241019T193000
DTEND;TZID=America/New_York:20241019T223000
DTSTAMP:20260423T155232
CREATED:20240918T003606Z
LAST-MODIFIED:20240918T005312Z
UID:1163-1729366200-1729377000@sonic-boom-productions.com
SUMMARY:The TNT Dyn-O-Mite Band - Fiddler's Green\, Stamford
DESCRIPTION:
URL:https://sonic-boom-productions.com/event/the-tnt-dyn-o-mite-band-fiddlers-green-stamford-5/
LOCATION:Fiddler’s Green\, 280 Shippan Avenue\, Stamford\, 06902\, United States
CATEGORIES:Live Music
ATTACH;FMTTYPE=image/png:https://sonic-boom-productions.com/wp-content/uploads/2022/04/rb-music-event.png
END:VEVENT
BEGIN:VEVENT
DTSTART;TZID=America/New_York:20241004T210000
DTEND;TZID=America/New_York:20241004T220000
DTSTAMP:20260423T155232
CREATED:20241008T220449Z
LAST-MODIFIED:20241008T220449Z
UID:1171-1728075600-1728079200@sonic-boom-productions.com
SUMMARY:Nights of the Round Table Comedians - Broadway Comedy Club
DESCRIPTION:Vicki and Tony Sanches \nPerforming in the Red Room \n$25 Admission + 2 drink minimum \n 
URL:https://sonic-boom-productions.com/event/nights-of-the-round-table-comedians-broadway-comedy-club/
LOCATION:Broadway Comedy Club – NY\, 318 West 53rd Street\, New York\, NY\, 10019\, United States
CATEGORIES:Comedy Show
ATTACH;FMTTYPE=image/png:https://sonic-boom-productions.com/wp-content/uploads/2022/03/comedy-night-event.png
END:VEVENT
BEGIN:VEVENT
DTSTART;TZID=America/New_York:20240926T190000
DTEND;TZID=America/New_York:20240926T220000
DTSTAMP:20260423T155232
CREATED:20240820T233941Z
LAST-MODIFIED:20240918T005129Z
UID:1151-1727377200-1727388000@sonic-boom-productions.com
SUMMARY:TNT Blues Revue / La Casa Cafe and Bar
DESCRIPTION:
URL:https://sonic-boom-productions.com/event/tnt-blues-revue-la-casa-cafe-and-bar-2/
LOCATION:LA CASA Cafe and Bar (formerly Murph & Eddy’s)\, 157 Mamaroneck Ave\, Mamaroneck\, 10543\, United States
CATEGORIES:Live Music
ATTACH;FMTTYPE=image/png:https://sonic-boom-productions.com/wp-content/uploads/2022/04/blues-music-event.png
END:VEVENT
BEGIN:VEVENT
DTSTART;TZID=America/New_York:20240921T190000
DTEND;TZID=America/New_York:20240921T210000
DTSTAMP:20260423T155232
CREATED:20240621T005951Z
LAST-MODIFIED:20240621T005951Z
UID:1142-1726945200-1726952400@sonic-boom-productions.com
SUMMARY:Nights of the Round Table Comedy - The Greenwich Lounge at The Stamford Diner
DESCRIPTION:$15 admission\nGreenwich Lounge Room\nat the Stamford Diner\nReservations strongly recommended\n2 drink minimum & 1 entree per person\n135 Harvard Avenue\, Stamford 203-348-7000
URL:https://sonic-boom-productions.com/event/nights-of-the-round-table-comedy-the-greenwich-lounge-at-the-stamford-diner-4/
LOCATION:The Stamford Diner\, 135 Harvard Ave\, Stamford\, CT\, 06902\, United States
CATEGORIES:Comedy Show
ATTACH;FMTTYPE=image/png:https://sonic-boom-productions.com/wp-content/uploads/2022/03/comedy-night-event.png
END:VEVENT
BEGIN:VEVENT
DTSTART;TZID=America/New_York:20240915T120000
DTEND;TZID=America/New_York:20240915T170000
DTSTAMP:20260423T155232
CREATED:20240222T160203Z
LAST-MODIFIED:20240826T190022Z
UID:1099-1726401600-1726419600@sonic-boom-productions.com
SUMMARY:The TNT Dyn-O-Mite Band - Patterson NY Blues & BBQ Festival
DESCRIPTION:Patterson Rotary’s Blues & BBQ Festival: Two days of live music\, great BBQ\, and fun for the whole family. Admission and parking are FREE!
URL:https://sonic-boom-productions.com/event/the-tnt-dyn-o-mite-band-patterson-ny-blues-bbq-festival/
LOCATION:Blues and BBQ Festival – Patterson\, NY\, 13 Burdick Road\, Patterson\, NY
CATEGORIES:Live Music
ATTACH;FMTTYPE=image/png:https://sonic-boom-productions.com/wp-content/uploads/2022/04/rb-music-event.png
END:VEVENT
BEGIN:VEVENT
DTSTART;TZID=America/New_York:20240829T180000
DTEND;TZID=America/New_York:20240829T200000
DTSTAMP:20260423T155232
CREATED:20240621T005232Z
LAST-MODIFIED:20260118T165215Z
UID:1134-1724954400-1724961600@sonic-boom-productions.com
SUMMARY:TNT Blues Revue - Stamford's "Street Beats" Concert Series - Columbus Park
DESCRIPTION:Stamford’s “Street Beats” concert series \nin Columbus Park \nFREE
URL:https://sonic-boom-productions.com/event/tnt-blues-revue-stamfords-street-beats-concert-series-columbus-park/
LOCATION:Stamford’s Street Beats Concert Series – Columbus Park\, Columbus Park\, Stamford\, CT\, United States
CATEGORIES:Live Music
ATTACH;FMTTYPE=image/png:https://sonic-boom-productions.com/wp-content/uploads/2022/04/blues-music-event.png
END:VEVENT
BEGIN:VEVENT
DTSTART;TZID=America/New_York:20240828T180000
DTEND;TZID=America/New_York:20240828T200000
DTSTAMP:20260423T155232
CREATED:20240621T005447Z
LAST-MODIFIED:20240820T233421Z
UID:1136-1724868000-1724875200@sonic-boom-productions.com
SUMMARY:The TNT Dyn-O-Mite Band - Harbor Point / Commons Park
DESCRIPTION:Free
URL:https://sonic-boom-productions.com/event/the-tnt-dyn-o-mite-band-harbor-point-commons-park/
LOCATION:Commons Park / Harbor Point (outside show)\, 201 Commons Park South\, Stamford\, CT\, 06902\, United States
CATEGORIES:Live Music
ATTACH;FMTTYPE=image/png:https://sonic-boom-productions.com/wp-content/uploads/2022/04/rb-music-event.png
END:VEVENT
BEGIN:VEVENT
DTSTART;TZID=America/New_York:20240811T180000
DTEND;TZID=America/New_York:20240811T200000
DTSTAMP:20260423T155232
CREATED:20240118T014858Z
LAST-MODIFIED:20260118T170259Z
UID:1066-1723399200-1723406400@sonic-boom-productions.com
SUMMARY:Sonic Boom Productions - Music Equipment Rental for Summer Concert Series
DESCRIPTION:The Yorktown Lions Summer Concert Series: Come see our friends the Showtime Dance Band\, playing Motown and much more\, right up today’s hits \nBring family & friends with your lawn chairs & dance moves for many fun nights under the stars! Be sure to come early to get your spot on the field.\nLions will always have drinks & snacks for sale! There will always be 50/50 plus various community partners you can visit in between songs! All money raised will be donated back to the Yorktown Lions! Plus\, we’ll be collecting non perishable and non expired food to deliver to the local food pantries.\nIf it rains- don’t worry! All shows will be moved inside the Yorktown Stage!
URL:https://sonic-boom-productions.com/event/sonic-boom-productions-music-equipment-rental-for-summer-concert-series-4/
LOCATION:Jack DeVito/Veteran’s Memorial Field\, 208-264 Veterans Rd\, Yorktown Heights\, NY\, 10598\, United States
CATEGORIES:Equipment Rental - Drums, Sound, Lighting
ATTACH;FMTTYPE=image/jpeg:https://sonic-boom-productions.com/wp-content/uploads/2022/03/Sonic-Boom-Productions-Pro-Audio-Rental-Stamford-CT.jpeg
END:VEVENT
BEGIN:VEVENT
DTSTART;TZID=America/New_York:20240809T193000
DTEND;TZID=America/New_York:20240809T220000
DTSTAMP:20260423T155232
CREATED:20240511T210733Z
LAST-MODIFIED:20240511T210816Z
UID:1126-1723231800-1723240800@sonic-boom-productions.com
SUMMARY:The TNT Dyn-O-Mite Band – La Casa Cafe and Bar
DESCRIPTION:
URL:https://sonic-boom-productions.com/event/the-tnt-dyn-o-mite-band-la-casa-cafe-and-bar/
LOCATION:LA CASA Cafe and Bar (formerly Murph & Eddy’s)\, 157 Mamaroneck Ave\, Mamaroneck\, 10543\, United States
CATEGORIES:Live Music
ATTACH;FMTTYPE=image/png:https://sonic-boom-productions.com/wp-content/uploads/2022/04/rb-music-event.png
END:VEVENT
BEGIN:VEVENT
DTSTART;TZID=America/New_York:20240802T180000
DTEND;TZID=America/New_York:20240802T200000
DTSTAMP:20260423T155232
CREATED:20240118T014630Z
LAST-MODIFIED:20260118T170231Z
UID:1064-1722621600-1722628800@sonic-boom-productions.com
SUMMARY:Sonic Boom Productions - Music Equipment Rental for Summer Concert Series
DESCRIPTION:The Ridge Hill Music on the Hill Summer Concert Series: Come see our friends the Showtime Dance Band\, playing Motown and much more\, right up today’s hits
URL:https://sonic-boom-productions.com/event/sonic-boom-productions-music-equipment-rental-for-summer-concert-series-3/
LOCATION:Music on the Hill Summer Concert Series\, 1 Ridge Hill Boulevard\, Yonkers\, NY\, 10710\, United States
CATEGORIES:Equipment Rental - Drums, Sound, Lighting
ATTACH;FMTTYPE=image/jpeg:https://sonic-boom-productions.com/wp-content/uploads/2022/03/Sonic-Boom-Productions-Pro-Audio-Rental-Stamford-CT.jpeg
END:VEVENT
BEGIN:VEVENT
DTSTART;TZID=America/New_York:20240720T190000
DTEND;TZID=America/New_York:20240720T210000
DTSTAMP:20260423T155232
CREATED:20240621T005653Z
LAST-MODIFIED:20240621T005822Z
UID:1138-1721502000-1721509200@sonic-boom-productions.com
SUMMARY:Nights of the Round Table Comedy - The Greenwich Lounge at The Stamford Diner
DESCRIPTION:$15 admission\nGreenwich Lounge Room\nat the Stamford Diner\nReservations strongly recommended\n2 drink minimum & 1 entree per person\n135 Harvard Avenue\, Stamford 203-348-7000
URL:https://sonic-boom-productions.com/event/nights-of-the-round-table-comedy-the-greenwich-lounge-at-the-stamford-diner-3/
LOCATION:The Stamford Diner\, 135 Harvard Ave\, Stamford\, CT\, 06902\, United States
CATEGORIES:Comedy Show
ATTACH;FMTTYPE=image/png:https://sonic-boom-productions.com/wp-content/uploads/2022/03/comedy-night-event.png
END:VEVENT
BEGIN:VEVENT
DTSTART;TZID=America/New_York:20240705T180000
DTEND;TZID=America/New_York:20240705T200000
DTSTAMP:20260423T155232
CREATED:20240118T014512Z
LAST-MODIFIED:20260118T170202Z
UID:1062-1720202400-1720209600@sonic-boom-productions.com
SUMMARY:Sonic Boom Productions - Music Equipment Rental for Summer Concert Series
DESCRIPTION:The Ridge Hill Music on the Hill Summer Concert Series: Come see our friends the Showtime Dance Band\, playing Motown and much more\, right up today’s hits
URL:https://sonic-boom-productions.com/event/sonic-boom-productions-music-equipment-rental-for-summer-concert-series-2/
LOCATION:Music on the Hill Summer Concert Series\, 1 Ridge Hill Boulevard\, Yonkers\, NY\, 10710\, United States
CATEGORIES:Equipment Rental - Drums, Sound, Lighting
ATTACH;FMTTYPE=image/jpeg:https://sonic-boom-productions.com/wp-content/uploads/2022/03/Sonic-Boom-Productions-Pro-Audio-Rental-Stamford-CT.jpeg
END:VEVENT
BEGIN:VEVENT
DTSTART;TZID=America/New_York:20240607T180000
DTEND;TZID=America/New_York:20240607T200000
DTSTAMP:20260423T155232
CREATED:20240118T014351Z
LAST-MODIFIED:20260118T170137Z
UID:1059-1717783200-1717790400@sonic-boom-productions.com
SUMMARY:Sonic Boom Productions - Music Equipment Rental for Summer Concert Series
DESCRIPTION:The Ridge Hill Music on the Hill Summer Concert Series: Come see our friends the Showtime Dance Band\, playing Motown and much more\, right up today’s hits
URL:https://sonic-boom-productions.com/event/sonic-boom-productions-music-equipment-rental-for-summer-concert-series/
LOCATION:Music on the Hill Summer Concert Series\, 1 Ridge Hill Boulevard\, Yonkers\, NY\, 10710\, United States
CATEGORIES:Equipment Rental - Drums, Sound, Lighting
ATTACH;FMTTYPE=image/jpeg:https://sonic-boom-productions.com/wp-content/uploads/2022/03/Sonic-Boom-Productions-Pro-Audio-Rental-Stamford-CT.jpeg
END:VEVENT
BEGIN:VEVENT
DTSTART;TZID=America/New_York:20240601T000000
DTEND;TZID=America/New_York:20240601T000000
DTSTAMP:20260423T155232
CREATED:20240222T155644Z
LAST-MODIFIED:20240508T192403Z
UID:1097-1717200000-1717200000@sonic-boom-productions.com
SUMMARY:The TNT Dyn-O-Mite Band - Private Party
DESCRIPTION:
URL:https://sonic-boom-productions.com/event/the-tnt-dyn-o-mite-band-private-party/
LOCATION:Private Event – Stamford\, CT
CATEGORIES:Live Music
ATTACH;FMTTYPE=image/png:https://sonic-boom-productions.com/wp-content/uploads/2022/04/rb-music-event.png
END:VEVENT
BEGIN:VEVENT
DTSTART;TZID=America/New_York:20240523T193000
DTEND;TZID=America/New_York:20240523T220000
DTSTAMP:20260423T155232
CREATED:20240511T205728Z
LAST-MODIFIED:20240511T224540Z
UID:1120-1716492600-1716501600@sonic-boom-productions.com
SUMMARY:TNT Blues Revue / La Casa Cafe and Bar
DESCRIPTION:
URL:https://sonic-boom-productions.com/event/tnt-blues-revue-la-casa-cafe-and-bar/
LOCATION:LA CASA Cafe and Bar (formerly Murph & Eddy’s)\, 157 Mamaroneck Ave\, Mamaroneck\, 10543\, United States
CATEGORIES:Live Music
ATTACH;FMTTYPE=image/png:https://sonic-boom-productions.com/wp-content/uploads/2022/04/blues-music-event.png
END:VEVENT
BEGIN:VEVENT
DTSTART;TZID=America/New_York:20240518T190000
DTEND;TZID=America/New_York:20240518T230000
DTSTAMP:20260423T155232
CREATED:20240222T155435Z
LAST-MODIFIED:20240222T155435Z
UID:1095-1716058800-1716073200@sonic-boom-productions.com
SUMMARY:The TNT Dyn-O-Mite Band - Spring Dance Benefit at Congers Church
DESCRIPTION:Benefits Congers UMC Youth Scholarships and Programs.  \nTickets available now: https://www.facebook.com/CongersUMC/
URL:https://sonic-boom-productions.com/event/the-tnt-dyn-o-mite-band-spring-dance-at-congers-church/
LOCATION:Congers United Methodist Church\, 3 Old Haverstraw Road\, Congers\, NY\, United States
CATEGORIES:Live Music
ATTACH;FMTTYPE=image/png:https://sonic-boom-productions.com/wp-content/uploads/2022/04/rb-music-event.png
END:VEVENT
BEGIN:VEVENT
DTSTART;TZID=America/New_York:20240504T190000
DTEND;TZID=America/New_York:20240504T210000
DTSTAMP:20260423T155232
CREATED:20240221T221633Z
LAST-MODIFIED:20240222T155036Z
UID:1087-1714849200-1714856400@sonic-boom-productions.com
SUMMARY:Nights of the Round Table Comedy - The Greenwich Lounge at The Stamford Diner
DESCRIPTION:$15 admission\nGreenwich Lounge Room\nat the Stamford Diner\nReservations strongly recommended\n2 drink minimum & 1 entree per person\n135 Harvard Avenue\, Stamford 203-348-7000
URL:https://sonic-boom-productions.com/event/nights-of-the-round-table-comedy-the-greenwich-lounge-at-the-stamford-diner-2/
LOCATION:The Stamford Diner\, 135 Harvard Ave\, Stamford\, CT\, 06902\, United States
CATEGORIES:Comedy Show
ATTACH;FMTTYPE=image/png:https://sonic-boom-productions.com/wp-content/uploads/2022/03/comedy-night-event.png
END:VEVENT
BEGIN:VEVENT
DTSTART;TZID=America/New_York:20240503T180000
DTEND;TZID=America/New_York:20240503T200000
DTSTAMP:20260423T155232
CREATED:20240118T013352Z
LAST-MODIFIED:20260118T170113Z
UID:1053-1714759200-1714766400@sonic-boom-productions.com
SUMMARY:Sonic Boom Productions - Music Equipment Rental for Summer Concert Series
DESCRIPTION:The Ridge Hill Music on the Hill Summer Concert Series: Come see our friends the Showtime Dance Band\, playing Motown and much more\, right up today’s hits
URL:https://sonic-boom-productions.com/event/sonic-boom-productions-summer-concert-series-music-equipment-rental/
LOCATION:Music on the Hill Summer Concert Series\, 1 Ridge Hill Boulevard\, Yonkers\, NY\, 10710\, United States
CATEGORIES:Equipment Rental - Drums, Sound, Lighting
ATTACH;FMTTYPE=image/jpeg:https://sonic-boom-productions.com/wp-content/uploads/2022/03/Sonic-Boom-Productions-Pro-Audio-Rental-Stamford-CT.jpeg
END:VEVENT
BEGIN:VEVENT
DTSTART;TZID=America/New_York:20240427T193000
DTEND;TZID=America/New_York:20240427T223000
DTSTAMP:20260423T155232
CREATED:20240407T232048Z
LAST-MODIFIED:20240407T232106Z
UID:1107-1714246200-1714257000@sonic-boom-productions.com
SUMMARY:The TNT Dyn-O-Mite Band - Fiddler's Green\, Stamford
DESCRIPTION:
URL:https://sonic-boom-productions.com/event/the-tnt-dyn-o-mite-band-fiddlers-green-stamford-3/
LOCATION:Fiddler’s Green\, 280 Shippan Avenue\, Stamford\, 06902\, United States
CATEGORIES:Live Music
ATTACH;FMTTYPE=image/png:https://sonic-boom-productions.com/wp-content/uploads/2022/04/rb-music-event.png
END:VEVENT
BEGIN:VEVENT
DTSTART;TZID=America/New_York:20240412T190000
DTEND;TZID=America/New_York:20240412T210000
DTSTAMP:20260423T155232
CREATED:20240123T222508Z
LAST-MODIFIED:20240123T222541Z
UID:1074-1712948400-1712955600@sonic-boom-productions.com
SUMMARY:Nights of the Round Table Comedians - at the CSS Fundraiser
DESCRIPTION:A comedy night to benefit Careers Support Solutions – an organization that helps people with challenges find employment: \nHome
URL:https://sonic-boom-productions.com/event/nights-of-the-round-table-comedians-at-the-css-fundraiser/
LOCATION:Traveler’s Rest\, 25 NY-100\, Ossining\, NY\, 10562
CATEGORIES:Comedy Show
ATTACH;FMTTYPE=image/png:https://sonic-boom-productions.com/wp-content/uploads/2022/03/comedy-night-event.png
END:VEVENT
BEGIN:VEVENT
DTSTART;TZID=America/New_York:20240411T180000
DTEND;TZID=America/New_York:20240411T203000
DTSTAMP:20260423T155232
CREATED:20240228T172546Z
LAST-MODIFIED:20250203T002005Z
UID:1101-1712858400-1712867400@sonic-boom-productions.com
SUMMARY:John Verdeschi & Tony Sanches / Acoustic Set - Ferguson Gala
DESCRIPTION:Spotlight artists: John Verdeschi and Tony Sanches \nThe best party in Stamford: “A Novel Affair” – Ferguson Library’s annual gala! \nFOOD / DRINKS included – You could make a full dinner from the tons of food vendors we’ll have! \nA Novel Affair is the library’s signature fundraiser. This fabulous event helps us raise funds to buy books for children and adults\, and provide services such as children’s early literacy programs\, job skills training\, English language learning and more. \nThis year\, we are delighted to honor Steven M. Frederick and Wofsey\, Rosen\, Kweskin & Kuriansky\, LLP for their service to the library and the Stamford community. \n\n\nTickets: $175.00 / Early Bird: $150.00 before March 15\, 2024\nBook Club Members: $150.00 / Early Bird: $120.00 before March 15\, 2024
URL:https://sonic-boom-productions.com/event/john-verdeschi-tony-sanches-acoustic-set-ferguson-gala-2/
LOCATION:Ferguson Library\, 1 Public Library Plaza\, Stamford\, CT\, 06901\, United States
CATEGORIES:Live Music
ATTACH;FMTTYPE=image/png:https://sonic-boom-productions.com/wp-content/uploads/2023/03/John-and-Tony-Acoustic-Set.png
END:VEVENT
BEGIN:VEVENT
DTSTART;TZID=America/New_York:20240309T193000
DTEND;TZID=America/New_York:20240309T223000
DTSTAMP:20260423T155232
CREATED:20231230T194037Z
LAST-MODIFIED:20231230T194037Z
UID:1045-1710012600-1710023400@sonic-boom-productions.com
SUMMARY:The TNT Dyn-O-Mite Band - Fiddler's Green\, Stamford
DESCRIPTION:
URL:https://sonic-boom-productions.com/event/the-tnt-dyn-o-mite-band-fiddlers-green-stamford-4/
LOCATION:Fiddler’s Green\, 280 Shippan Avenue\, Stamford\, 06902\, United States
CATEGORIES:Live Music
ATTACH;FMTTYPE=image/png:https://sonic-boom-productions.com/wp-content/uploads/2022/04/rb-music-event.png
END:VEVENT
END:VCALENDAR