BEGIN:VCALENDAR
VERSION:2.0
PRODID:-//Sonic Boom Productions - ECPv6.15.20//NONSGML v1.0//EN
CALSCALE:GREGORIAN
METHOD:PUBLISH
X-ORIGINAL-URL:https://sonic-boom-productions.com
X-WR-CALDESC:Events for Sonic Boom Productions
REFRESH-INTERVAL;VALUE=DURATION:PT1H
X-Robots-Tag:noindex
X-PUBLISHED-TTL:PT1H
BEGIN:VTIMEZONE
TZID:America/New_York
BEGIN:DAYLIGHT
TZOFFSETFROM:-0500
TZOFFSETTO:-0400
TZNAME:EDT
DTSTART:20220313T070000
END:DAYLIGHT
BEGIN:STANDARD
TZOFFSETFROM:-0400
TZOFFSETTO:-0500
TZNAME:EST
DTSTART:20221106T060000
END:STANDARD
BEGIN:DAYLIGHT
TZOFFSETFROM:-0500
TZOFFSETTO:-0400
TZNAME:EDT
DTSTART:20230312T070000
END:DAYLIGHT
BEGIN:STANDARD
TZOFFSETFROM:-0400
TZOFFSETTO:-0500
TZNAME:EST
DTSTART:20231105T060000
END:STANDARD
BEGIN:DAYLIGHT
TZOFFSETFROM:-0500
TZOFFSETTO:-0400
TZNAME:EDT
DTSTART:20240310T070000
END:DAYLIGHT
BEGIN:STANDARD
TZOFFSETFROM:-0400
TZOFFSETTO:-0500
TZNAME:EST
DTSTART:20241103T060000
END:STANDARD
BEGIN:DAYLIGHT
TZOFFSETFROM:-0500
TZOFFSETTO:-0400
TZNAME:EDT
DTSTART:20250309T070000
END:DAYLIGHT
BEGIN:STANDARD
TZOFFSETFROM:-0400
TZOFFSETTO:-0500
TZNAME:EST
DTSTART:20251102T060000
END:STANDARD
END:VTIMEZONE
BEGIN:VEVENT
DTSTART;TZID=America/New_York:20240504T190000
DTEND;TZID=America/New_York:20240504T210000
DTSTAMP:20260423T184414
CREATED:20240221T221633Z
LAST-MODIFIED:20240222T155036Z
UID:1087-1714849200-1714856400@sonic-boom-productions.com
SUMMARY:Nights of the Round Table Comedy - The Greenwich Lounge at The Stamford Diner
DESCRIPTION:$15 admission\nGreenwich Lounge Room\nat the Stamford Diner\nReservations strongly recommended\n2 drink minimum & 1 entree per person\n135 Harvard Avenue\, Stamford 203-348-7000
URL:https://sonic-boom-productions.com/event/nights-of-the-round-table-comedy-the-greenwich-lounge-at-the-stamford-diner-2/
LOCATION:The Stamford Diner\, 135 Harvard Ave\, Stamford\, CT\, 06902\, United States
CATEGORIES:Comedy Show
ATTACH;FMTTYPE=image/png:https://sonic-boom-productions.com/wp-content/uploads/2022/03/comedy-night-event.png
END:VEVENT
BEGIN:VEVENT
DTSTART;TZID=America/New_York:20240503T180000
DTEND;TZID=America/New_York:20240503T200000
DTSTAMP:20260423T184414
CREATED:20240118T013352Z
LAST-MODIFIED:20260118T170113Z
UID:1053-1714759200-1714766400@sonic-boom-productions.com
SUMMARY:Sonic Boom Productions - Music Equipment Rental for Summer Concert Series
DESCRIPTION:The Ridge Hill Music on the Hill Summer Concert Series: Come see our friends the Showtime Dance Band\, playing Motown and much more\, right up today’s hits
URL:https://sonic-boom-productions.com/event/sonic-boom-productions-summer-concert-series-music-equipment-rental/
LOCATION:Music on the Hill Summer Concert Series\, 1 Ridge Hill Boulevard\, Yonkers\, NY\, 10710\, United States
CATEGORIES:Equipment Rental - Drums, Sound, Lighting
ATTACH;FMTTYPE=image/jpeg:https://sonic-boom-productions.com/wp-content/uploads/2022/03/Sonic-Boom-Productions-Pro-Audio-Rental-Stamford-CT.jpeg
END:VEVENT
BEGIN:VEVENT
DTSTART;TZID=America/New_York:20240427T193000
DTEND;TZID=America/New_York:20240427T223000
DTSTAMP:20260423T184414
CREATED:20240407T232048Z
LAST-MODIFIED:20240407T232106Z
UID:1107-1714246200-1714257000@sonic-boom-productions.com
SUMMARY:The TNT Dyn-O-Mite Band - Fiddler's Green\, Stamford
DESCRIPTION:
URL:https://sonic-boom-productions.com/event/the-tnt-dyn-o-mite-band-fiddlers-green-stamford-3/
LOCATION:Fiddler’s Green\, 280 Shippan Avenue\, Stamford\, 06902\, United States
CATEGORIES:Live Music
ATTACH;FMTTYPE=image/png:https://sonic-boom-productions.com/wp-content/uploads/2022/04/rb-music-event.png
END:VEVENT
BEGIN:VEVENT
DTSTART;TZID=America/New_York:20240412T190000
DTEND;TZID=America/New_York:20240412T210000
DTSTAMP:20260423T184414
CREATED:20240123T222508Z
LAST-MODIFIED:20240123T222541Z
UID:1074-1712948400-1712955600@sonic-boom-productions.com
SUMMARY:Nights of the Round Table Comedians - at the CSS Fundraiser
DESCRIPTION:A comedy night to benefit Careers Support Solutions – an organization that helps people with challenges find employment: \nHome
URL:https://sonic-boom-productions.com/event/nights-of-the-round-table-comedians-at-the-css-fundraiser/
LOCATION:Traveler’s Rest\, 25 NY-100\, Ossining\, NY\, 10562
CATEGORIES:Comedy Show
ATTACH;FMTTYPE=image/png:https://sonic-boom-productions.com/wp-content/uploads/2022/03/comedy-night-event.png
END:VEVENT
BEGIN:VEVENT
DTSTART;TZID=America/New_York:20240411T180000
DTEND;TZID=America/New_York:20240411T203000
DTSTAMP:20260423T184414
CREATED:20240228T172546Z
LAST-MODIFIED:20250203T002005Z
UID:1101-1712858400-1712867400@sonic-boom-productions.com
SUMMARY:John Verdeschi & Tony Sanches / Acoustic Set - Ferguson Gala
DESCRIPTION:Spotlight artists: John Verdeschi and Tony Sanches \nThe best party in Stamford: “A Novel Affair” – Ferguson Library’s annual gala! \nFOOD / DRINKS included – You could make a full dinner from the tons of food vendors we’ll have! \nA Novel Affair is the library’s signature fundraiser. This fabulous event helps us raise funds to buy books for children and adults\, and provide services such as children’s early literacy programs\, job skills training\, English language learning and more. \nThis year\, we are delighted to honor Steven M. Frederick and Wofsey\, Rosen\, Kweskin & Kuriansky\, LLP for their service to the library and the Stamford community. \n\n\nTickets: $175.00 / Early Bird: $150.00 before March 15\, 2024\nBook Club Members: $150.00 / Early Bird: $120.00 before March 15\, 2024
URL:https://sonic-boom-productions.com/event/john-verdeschi-tony-sanches-acoustic-set-ferguson-gala-2/
LOCATION:Ferguson Library\, 1 Public Library Plaza\, Stamford\, CT\, 06901\, United States
CATEGORIES:Live Music
ATTACH;FMTTYPE=image/png:https://sonic-boom-productions.com/wp-content/uploads/2023/03/John-and-Tony-Acoustic-Set.png
END:VEVENT
BEGIN:VEVENT
DTSTART;TZID=America/New_York:20240309T193000
DTEND;TZID=America/New_York:20240309T223000
DTSTAMP:20260423T184414
CREATED:20231230T194037Z
LAST-MODIFIED:20231230T194037Z
UID:1045-1710012600-1710023400@sonic-boom-productions.com
SUMMARY:The TNT Dyn-O-Mite Band - Fiddler's Green\, Stamford
DESCRIPTION:
URL:https://sonic-boom-productions.com/event/the-tnt-dyn-o-mite-band-fiddlers-green-stamford-4/
LOCATION:Fiddler’s Green\, 280 Shippan Avenue\, Stamford\, 06902\, United States
CATEGORIES:Live Music
ATTACH;FMTTYPE=image/png:https://sonic-boom-productions.com/wp-content/uploads/2022/04/rb-music-event.png
END:VEVENT
BEGIN:VEVENT
DTSTART;TZID=America/New_York:20240302T190000
DTEND;TZID=America/New_York:20240302T210000
DTSTAMP:20260423T184414
CREATED:20240221T221313Z
LAST-MODIFIED:20240221T221521Z
UID:1083-1709406000-1709413200@sonic-boom-productions.com
SUMMARY:Nights of the Round Table Comedy - The Greenwich Lounge at The Stamford Diner
DESCRIPTION:$15 admission\nGreenwich Lounge Room\nat the Stamford Diner\nReservations strongly recommended\n2 drink minimum & 1 entree per person\n135 Harvard Avenue\, Stamford 203-348-7000
URL:https://sonic-boom-productions.com/event/nights-of-the-round-table-comedy-the-greenwich-lounge-at-the-stamford-diner/
LOCATION:The Stamford Diner\, 135 Harvard Ave\, Stamford\, CT\, 06902\, United States
CATEGORIES:Comedy Show
ATTACH;FMTTYPE=image/png:https://sonic-boom-productions.com/wp-content/uploads/2022/03/comedy-night-event.png
END:VEVENT
BEGIN:VEVENT
DTSTART;TZID=America/New_York:20240217T200000
DTEND;TZID=America/New_York:20240217T220000
DTSTAMP:20260423T184414
CREATED:20231230T194523Z
LAST-MODIFIED:20240204T214800Z
UID:1049-1708200000-1708207200@sonic-boom-productions.com
SUMMARY:The TNT Dyn-O-Mite Band - Mardi Gras Party at Yonkers Brewing Company
DESCRIPTION:
URL:https://sonic-boom-productions.com/event/the-tnt-dyn-o-mite-band-yonkers-brewing-company/
LOCATION:914 Collective / Yonkers Brewing Company\, 92 Main Street\, Yonkers\, NY\, 10701\, United States
CATEGORIES:Live Music
ATTACH;FMTTYPE=image/png:https://sonic-boom-productions.com/wp-content/uploads/2023/12/Mardi-Gras-TNT-image.png
END:VEVENT
BEGIN:VEVENT
DTSTART;TZID=America/New_York:20240210T193000
DTEND;TZID=America/New_York:20240210T223000
DTSTAMP:20260423T184414
CREATED:20231230T193918Z
LAST-MODIFIED:20240128T190750Z
UID:1043-1707593400-1707604200@sonic-boom-productions.com
SUMMARY:The TNT Dyn-O-Mite Band - Mardi Gras Night! Beads\, Bourbon\, and Great Band Music!
DESCRIPTION:Bring your Mardi Gras spirit and dance the night away to our funky New Orleans-style set! Let the good times roll!!!
URL:https://sonic-boom-productions.com/event/the-tnt-dyn-o-mite-band-mardi-gras-night-beads-bourbon-and-great-band-music/
LOCATION:Fiddler’s Green\, 280 Shippan Avenue\, Stamford\, 06902\, United States
CATEGORIES:Live Music
ATTACH;FMTTYPE=image/png:https://sonic-boom-productions.com/wp-content/uploads/2023/12/Mardi-Gras-TNT-image.png
END:VEVENT
BEGIN:VEVENT
DTSTART;TZID=America/New_York:20240127T200000
DTEND;TZID=America/New_York:20240127T230000
DTSTAMP:20260423T184414
CREATED:20231230T194245Z
LAST-MODIFIED:20240118T010241Z
UID:1047-1706385600-1706396400@sonic-boom-productions.com
SUMMARY:The TNT Dyn-O-Mite Band - Tawa / Club London
DESCRIPTION:
URL:https://sonic-boom-productions.com/event/tawa-club-london-stamford/
LOCATION:Tawa / Club London\, 487 Glenbook Road\, Stamford\, CT\, 06906\, United States
CATEGORIES:Live Music
ATTACH;FMTTYPE=image/png:https://sonic-boom-productions.com/wp-content/uploads/2022/04/rb-music-event.png
END:VEVENT
BEGIN:VEVENT
DTSTART;TZID=America/New_York:20240118T190000
DTEND;TZID=America/New_York:20240118T210000
DTSTAMP:20260423T184414
CREATED:20231108T212255Z
LAST-MODIFIED:20231108T212821Z
UID:1033-1705604400-1705611600@sonic-boom-productions.com
SUMMARY:Master Class in Humor Writing\, with Nights of the Round Table Comedians and Wide Open Writing
DESCRIPTION:HOW TO USE HUMOR IN YOUR WRITING  \nThree rubber chickens walk into a salad bar … but do they have clown noses on? Get the answer to questions like that in this Master Class where we will explore using humor to make your writing snap\, crackle\, and pop off the page. Three funny writer folk—including two stand-up comics—will lead this workshop on delving into the subtle differences between writing that is funny-haha and humor that slips on a banana peel and falls flat. (Clown car not included.) \nVicki French-Sanches\nVicki’s creative writing includes stand-up comedy\, sketch comedy\, poetry\, social-issue essays\, and short stories. She has written two books\, one fiction and one non-fiction\, and is working on a third (fiction.) Vicki has been writing and performing comedy for the last eight years. It is her greatest joy to embarrass her three grown children\, while charging them admission at the door. \nTony Sanches \nTony has written and performed stand-up comedy for the last 8 years\, penned a memoir on music\, and written several Twilight Zone-style short stories. He is also a musician who has performed with bands across various genres for almost 30 years. His extensive knowledge of drum equipment\, pro audio\, and lighting allows him to support a range of artists. \nFranny French\nFranny first won distinction (and a butterscotch sundae) in the third grade for a short story about a misunderstood scarecrow. Since then\, her work has appeared in the St. Petersburg Review\, The Ledge\, Public Poetry\, Enizagam\, and other literary publications. She is the recipient of an Oregon Literary Fellowship\, and her short story “Dead Fish” was nominated for a Pushcart Prize. She lives and writes and rewrites in Portland\, Oregon. \n$30 Master Class\nThursday\, January 18th\n7:00pm – 9:00pm (EST)\nOnline via Zoom\n \nMORE INFO AND REGISTRATION HERE
URL:https://sonic-boom-productions.com/event/humor-writing-master-class-with-nights-of-the-round-table-comedians/
LOCATION:CT
CATEGORIES:Comedy Show
ATTACH;FMTTYPE=image/png:https://sonic-boom-productions.com/wp-content/uploads/2022/03/comedy-night-event.png
END:VEVENT
BEGIN:VEVENT
DTSTART;TZID=America/New_York:20231215T193000
DTEND;TZID=America/New_York:20231215T220000
DTSTAMP:20260423T184414
CREATED:20231002T152024Z
LAST-MODIFIED:20231002T152828Z
UID:1020-1702668600-1702677600@sonic-boom-productions.com
SUMMARY:Wavelength Band / La Casa Cafe and Bar
DESCRIPTION:
URL:https://sonic-boom-productions.com/event/wavelength-band-la-casa-cafe-and-bar-9/
LOCATION:LA CASA Cafe and Bar (formerly Murph & Eddy’s)\, 157 Mamaroneck Ave\, Mamaroneck\, 10543\, United States
CATEGORIES:Live Music
ATTACH;FMTTYPE=image/png:https://sonic-boom-productions.com/wp-content/uploads/2022/04/80s-music-event-1.png
END:VEVENT
BEGIN:VEVENT
DTSTART;TZID=America/New_York:20231209T190000
DTEND;TZID=America/New_York:20231209T210000
DTSTAMP:20260423T184414
CREATED:20231101T004436Z
LAST-MODIFIED:20231101T004605Z
UID:1030-1702148400-1702155600@sonic-boom-productions.com
SUMMARY:Nights of the Round Table Comedy - Toys for Tots "FUN-RAISER" Comedy Night
DESCRIPTION:BRING A NEW TOY plus $15 CASH/PERSON\,\nor $25 CASH DONATION/PERSON\nGreenwich Lounge Room\nat the Stamford Diner\nReservations strongly recommended\n2 drink minimum & 1 entree per person\n135 Harvard Avenue\, Stamford 203-348-7000
URL:https://sonic-boom-productions.com/event/nights-of-the-round-table-comedy-show-toys-for-tots-fun-raiser-comedy-night/
LOCATION:The Stamford Diner\, 135 Harvard Ave\, Stamford\, CT\, 06902\, United States
CATEGORIES:Comedy Show
ATTACH;FMTTYPE=image/png:https://sonic-boom-productions.com/wp-content/uploads/2022/03/comedy-night-event.png
END:VEVENT
BEGIN:VEVENT
DTSTART;TZID=America/New_York:20231118T200000
DTEND;TZID=America/New_York:20231118T230000
DTSTAMP:20260423T184414
CREATED:20231002T151724Z
LAST-MODIFIED:20231002T152157Z
UID:1018-1700337600-1700348400@sonic-boom-productions.com
SUMMARY:The TNT Dyn-O-Mite Band - Fiddler's Green\, Stamford
DESCRIPTION:
URL:https://sonic-boom-productions.com/event/the-tnt-dyn-o-mite-band-fiddlers-green-stamford-2/
LOCATION:Fiddler’s Green\, 280 Shippan Avenue\, Stamford\, 06902\, United States
CATEGORIES:Live Music
ATTACH;FMTTYPE=image/png:https://sonic-boom-productions.com/wp-content/uploads/2022/04/rb-music-event.png
END:VEVENT
BEGIN:VEVENT
DTSTART;TZID=America/New_York:20231111T190000
DTEND;TZID=America/New_York:20231111T210000
DTSTAMP:20260423T184414
CREATED:20231002T153113Z
LAST-MODIFIED:20231002T153144Z
UID:1028-1699729200-1699736400@sonic-boom-productions.com
SUMMARY:Nights of the Round Table Comedy Show - Stratford\, CT
DESCRIPTION:$20 Admission \n 
URL:https://sonic-boom-productions.com/event/nights-of-the-round-table-comedy-show-stratford-ct-2/
LOCATION:UU Stratford\, 275 Huntington Road\, Stratford\, CT\, 06614\, United States
CATEGORIES:Comedy Show
ATTACH;FMTTYPE=image/png:https://sonic-boom-productions.com/wp-content/uploads/2022/03/comedy-night-event.png
END:VEVENT
BEGIN:VEVENT
DTSTART;TZID=America/New_York:20231110T190000
DTEND;TZID=America/New_York:20231110T220000
DTSTAMP:20260423T184414
CREATED:20231002T152533Z
LAST-MODIFIED:20231002T152650Z
UID:1022-1699642800-1699653600@sonic-boom-productions.com
SUMMARY:Wavelength Band / North Street Tavern at Maple Moor Golf Course
DESCRIPTION:
URL:https://sonic-boom-productions.com/event/wavelength-band-north-street-tavern-at-maple-moor-golf-course-2/
LOCATION:North Street Tavern & Wood Fired Pizza\, 1128 North Street\, White Plains\, NY\, 10605\, United States
CATEGORIES:Live Music
ATTACH;FMTTYPE=image/png:https://sonic-boom-productions.com/wp-content/uploads/2022/04/80s-music-event-1.png
END:VEVENT
BEGIN:VEVENT
DTSTART;TZID=America/New_York:20231020T193000
DTEND;TZID=America/New_York:20231020T220000
DTSTAMP:20260423T184414
CREATED:20231002T151909Z
LAST-MODIFIED:20231002T152750Z
UID:1021-1697830200-1697839200@sonic-boom-productions.com
SUMMARY:Wavelength Band / La Casa Cafe and Bar
DESCRIPTION:
URL:https://sonic-boom-productions.com/event/wavelength-band-la-casa-cafe-and-bar-8/
LOCATION:LA CASA Cafe and Bar (formerly Murph & Eddy’s)\, 157 Mamaroneck Ave\, Mamaroneck\, 10543\, United States
CATEGORIES:Live Music
ATTACH;FMTTYPE=image/png:https://sonic-boom-productions.com/wp-content/uploads/2022/04/80s-music-event-1.png
END:VEVENT
BEGIN:VEVENT
DTSTART;TZID=America/New_York:20230910T140000
DTEND;TZID=America/New_York:20230910T150000
DTSTAMP:20260423T184414
CREATED:20231002T151008Z
LAST-MODIFIED:20231002T151008Z
UID:1016-1694354400-1694358000@sonic-boom-productions.com
SUMMARY:The TNT Dyn-O-Mite Band - Blues and BBQ Fest - Patterson\, NY
DESCRIPTION:TNT kicks off at 2PM\, on the second day of this awesome blues and BBQ event!!!
URL:https://sonic-boom-productions.com/event/the-tnt-dyn-o-mite-band-blues-and-bbq-fest-patterson-ny/
LOCATION:Blues and BBQ Festival – Patterson\, NY\, 13 Burdick Road\, Patterson\, NY
CATEGORIES:Live Music
ATTACH;FMTTYPE=image/png:https://sonic-boom-productions.com/wp-content/uploads/2022/04/rb-music-event.png
END:VEVENT
BEGIN:VEVENT
DTSTART;TZID=America/New_York:20230909T190000
DTEND;TZID=America/New_York:20230909T210000
DTSTAMP:20260423T184414
CREATED:20230531T214123Z
LAST-MODIFIED:20230531T214123Z
UID:979-1694286000-1694293200@sonic-boom-productions.com
SUMMARY:Nights of the Round Table Comedy Show - The Greenwich Lounge at The Stamford Diner
DESCRIPTION:$15 Admission\, 2 drink minimum & 1 entree per person \nReservations strongly recommended
URL:https://sonic-boom-productions.com/event/nights-of-the-round-table-comedy-show-the-greenwich-lounge-at-the-stamford-diner-2/
LOCATION:The Stamford Diner\, 135 Harvard Ave\, Stamford\, CT\, 06902\, United States
CATEGORIES:Comedy Show
ATTACH;FMTTYPE=image/png:https://sonic-boom-productions.com/wp-content/uploads/2022/03/comedy-night-event.png
END:VEVENT
BEGIN:VEVENT
DTSTART;TZID=America/New_York:20230826T190000
DTEND;TZID=America/New_York:20230826T220000
DTSTAMP:20260423T184414
CREATED:20230815T214801Z
LAST-MODIFIED:20230815T214801Z
UID:1007-1693076400-1693087200@sonic-boom-productions.com
SUMMARY:The TNT Dyn-O-Mite Band - Fiddler's Green\, Stamford
DESCRIPTION:
URL:https://sonic-boom-productions.com/event/the-tnt-dyn-o-mite-band-fiddlers-green-stamford/
LOCATION:Fiddler’s Green\, 280 Shippan Avenue\, Stamford\, 06902\, United States
CATEGORIES:Live Music
ATTACH;FMTTYPE=image/png:https://sonic-boom-productions.com/wp-content/uploads/2022/04/rb-music-event.png
END:VEVENT
BEGIN:VEVENT
DTSTART;TZID=America/New_York:20230825T200000
DTEND;TZID=America/New_York:20230825T230000
DTSTAMP:20260423T184414
CREATED:20230617T003701Z
LAST-MODIFIED:20230617T005258Z
UID:994-1692993600-1693004400@sonic-boom-productions.com
SUMMARY:Wavelength Band / La Casa Cafe and Bar
DESCRIPTION:
URL:https://sonic-boom-productions.com/event/wavelength-band-la-casa-cafe-and-bar-7/
LOCATION:LA CASA Cafe and Bar (formerly Murph & Eddy’s)\, 157 Mamaroneck Ave\, Mamaroneck\, 10543\, United States
CATEGORIES:Live Music
ATTACH;FMTTYPE=image/png:https://sonic-boom-productions.com/wp-content/uploads/2022/04/80s-music-event-1.png
END:VEVENT
BEGIN:VEVENT
DTSTART;TZID=America/New_York:20230811T190000
DTEND;TZID=America/New_York:20230811T220000
DTSTAMP:20260423T184414
CREATED:20230623T015125Z
LAST-MODIFIED:20230623T015125Z
UID:1005-1691780400-1691791200@sonic-boom-productions.com
SUMMARY:Wavelength Band / North Street Tavern at Maple Moor Golf Course
DESCRIPTION:
URL:https://sonic-boom-productions.com/event/wavelength-band-north-street-tavern-at-maple-moor-golf-course/
LOCATION:North Street Tavern & Wood Fired Pizza\, 1128 North Street\, White Plains\, NY\, 10605\, United States
CATEGORIES:Live Music
ATTACH;FMTTYPE=image/png:https://sonic-boom-productions.com/wp-content/uploads/2022/04/80s-music-event-1.png
END:VEVENT
BEGIN:VEVENT
DTSTART;VALUE=DATE:20230805
DTEND;VALUE=DATE:20230806
DTSTAMP:20260423T184414
CREATED:20230617T003539Z
LAST-MODIFIED:20230617T004518Z
UID:992-1691193600-1691279999@sonic-boom-productions.com
SUMMARY:Wavelength Band / Private Event\, New Rochelle\, NY
DESCRIPTION:
URL:https://sonic-boom-productions.com/event/wavelength-band-la-casa-cafe-and-bar-private-event-new-rochelle-ny/
LOCATION:Private Event\, United States
CATEGORIES:Live Music
ATTACH;FMTTYPE=image/png:https://sonic-boom-productions.com/wp-content/uploads/2022/04/80s-music-event-1.png
END:VEVENT
BEGIN:VEVENT
DTSTART;TZID=America/New_York:20230729T200000
DTEND;TZID=America/New_York:20230729T230000
DTSTAMP:20260423T184414
CREATED:20230617T003355Z
LAST-MODIFIED:20230617T005324Z
UID:990-1690660800-1690671600@sonic-boom-productions.com
SUMMARY:Wavelength Band / La Casa Cafe and Bar
DESCRIPTION:
URL:https://sonic-boom-productions.com/event/wavelength-band-la-casa-cafe-and-bar-6/
LOCATION:LA CASA Cafe and Bar (formerly Murph & Eddy’s)\, 157 Mamaroneck Ave\, Mamaroneck\, 10543\, United States
CATEGORIES:Live Music
ATTACH;FMTTYPE=image/png:https://sonic-boom-productions.com/wp-content/uploads/2022/04/80s-music-event-1.png
END:VEVENT
BEGIN:VEVENT
DTSTART;TZID=America/New_York:20230715T193000
DTEND;TZID=America/New_York:20230715T220000
DTSTAMP:20260423T184414
CREATED:20230617T003216Z
LAST-MODIFIED:20230617T003216Z
UID:988-1689449400-1689458400@sonic-boom-productions.com
SUMMARY:The TNT Dyn-O-Mite Band - Fiddler's Green\, Stamford
DESCRIPTION:
URL:https://sonic-boom-productions.com/event/the-tnt-dyn-o-mite-band-fiddlers-green/
LOCATION:Fiddler’s Green\, 280 Shippan Avenue\, Stamford\, 06902\, United States
CATEGORIES:Live Music
ATTACH;FMTTYPE=image/png:https://sonic-boom-productions.com/wp-content/uploads/2022/04/rb-music-event.png
END:VEVENT
BEGIN:VEVENT
DTSTART;TZID=America/New_York:20230623T190000
DTEND;TZID=America/New_York:20230623T210000
DTSTAMP:20260423T184414
CREATED:20230531T214050Z
LAST-MODIFIED:20230531T214050Z
UID:978-1687546800-1687554000@sonic-boom-productions.com
SUMMARY:Nights of the Round Table Comedy Show - The Greenwich Lounge at The Stamford Diner
DESCRIPTION:$15 Admission\, 2 drink minimum & 1 entree per person \nReservations strongly recommended
URL:https://sonic-boom-productions.com/event/nights-of-the-round-table-comedy-show-the-greenwich-lounge-at-the-stamford-diner/
LOCATION:The Stamford Diner\, 135 Harvard Ave\, Stamford\, CT\, 06902\, United States
CATEGORIES:Comedy Show
ATTACH;FMTTYPE=image/png:https://sonic-boom-productions.com/wp-content/uploads/2022/03/comedy-night-event.png
END:VEVENT
BEGIN:VEVENT
DTSTART;VALUE=DATE:20230617
DTEND;VALUE=DATE:20230618
DTSTAMP:20260423T184414
CREATED:20230304T214614Z
LAST-MODIFIED:20260118T170041Z
UID:898-1686960000-1687046399@sonic-boom-productions.com
SUMMARY:Sonic Boom Productions - Private Wedding / Event Lighting\, Sound\, Programmed Music
DESCRIPTION:Private Wedding in Norwalk\, CT
URL:https://sonic-boom-productions.com/event/sonic-boom-productions-event-lighting-sound-programmed-music/
LOCATION:Private Event – Wedding – Norwalk\, CT
CATEGORIES:Equipment Rental - Drums, Sound, Lighting
ATTACH;FMTTYPE=image/jpeg:https://sonic-boom-productions.com/wp-content/uploads/2022/03/Sonic-Boom-Productions-Pro-Audio-Rental-Stamford-CT.jpeg
END:VEVENT
BEGIN:VEVENT
DTSTART;TZID=America/New_York:20230603T193000
DTEND;TZID=America/New_York:20230603T213000
DTSTAMP:20260423T184414
CREATED:20230520T130156Z
LAST-MODIFIED:20230520T130223Z
UID:973-1685820600-1685827800@sonic-boom-productions.com
SUMMARY:Nights of the Round Table Comedians - Governor's Club LI
DESCRIPTION:Saturday\, June 3 \n7:30 PM\, Doors open 5:30 PM \nTickets only $22 \nPlus 2 item minimum \nMust be 16 & older \nTickets must be prepaid \nCall 9516) 731-3358 \nOr visit: Govs.com
URL:https://sonic-boom-productions.com/event/nights-of-the-round-table-comedians-governors-club-li/
LOCATION:Governor’s Comedy Club – Levittown\, NY\, 90 Division Avenue\, Levittown\, 11756\, United States
CATEGORIES:Comedy Show
ATTACH;FMTTYPE=image/png:https://sonic-boom-productions.com/wp-content/uploads/2022/03/comedy-night-event.png
END:VEVENT
BEGIN:VEVENT
DTSTART;TZID=America/New_York:20230602T190000
DTEND;TZID=America/New_York:20230602T220000
DTSTAMP:20260423T184414
CREATED:20230308T000031Z
LAST-MODIFIED:20230308T000031Z
UID:904-1685732400-1685743200@sonic-boom-productions.com
SUMMARY:Wavelength Band / La Casa Cafe and Bar
DESCRIPTION:
URL:https://sonic-boom-productions.com/event/wavelength-band-la-casa-cafe-and-bar-5/
LOCATION:LA CASA Cafe and Bar (formerly Murph & Eddy’s)\, 157 Mamaroneck Ave\, Mamaroneck\, 10543\, United States
CATEGORIES:Live Music
ATTACH;FMTTYPE=image/png:https://sonic-boom-productions.com/wp-content/uploads/2022/04/80s-music-event-1.png
END:VEVENT
BEGIN:VEVENT
DTSTART;TZID=America/New_York:20230527T180000
DTEND;TZID=America/New_York:20230527T220000
DTSTAMP:20260423T184414
CREATED:20230304T214002Z
LAST-MODIFIED:20230304T214048Z
UID:896-1685210400-1685224800@sonic-boom-productions.com
SUMMARY:The TNT Dyn-O-Mite Band - Private Wedding
DESCRIPTION:Private Event
URL:https://sonic-boom-productions.com/event/the-tnt-dyn-o-mite-band-private-wedding-congers-ny/
LOCATION:Private Event – Wedding – Congers\, NY
CATEGORIES:Live Music
ATTACH;FMTTYPE=image/png:https://sonic-boom-productions.com/wp-content/uploads/2022/04/rb-music-event.png
END:VEVENT
END:VCALENDAR