BEGIN:VCALENDAR
VERSION:2.0
PRODID:-//Sonic Boom Productions - ECPv6.15.20//NONSGML v1.0//EN
CALSCALE:GREGORIAN
METHOD:PUBLISH
X-ORIGINAL-URL:https://sonic-boom-productions.com
X-WR-CALDESC:Events for Sonic Boom Productions
REFRESH-INTERVAL;VALUE=DURATION:PT1H
X-Robots-Tag:noindex
X-PUBLISHED-TTL:PT1H
BEGIN:VTIMEZONE
TZID:America/New_York
BEGIN:DAYLIGHT
TZOFFSETFROM:-0500
TZOFFSETTO:-0400
TZNAME:EDT
DTSTART:20230312T070000
END:DAYLIGHT
BEGIN:STANDARD
TZOFFSETFROM:-0400
TZOFFSETTO:-0500
TZNAME:EST
DTSTART:20231105T060000
END:STANDARD
BEGIN:DAYLIGHT
TZOFFSETFROM:-0500
TZOFFSETTO:-0400
TZNAME:EDT
DTSTART:20240310T070000
END:DAYLIGHT
BEGIN:STANDARD
TZOFFSETFROM:-0400
TZOFFSETTO:-0500
TZNAME:EST
DTSTART:20241103T060000
END:STANDARD
BEGIN:DAYLIGHT
TZOFFSETFROM:-0500
TZOFFSETTO:-0400
TZNAME:EDT
DTSTART:20250309T070000
END:DAYLIGHT
BEGIN:STANDARD
TZOFFSETFROM:-0400
TZOFFSETTO:-0500
TZNAME:EST
DTSTART:20251102T060000
END:STANDARD
END:VTIMEZONE
BEGIN:VEVENT
DTSTART;TZID=America/New_York:20240503T180000
DTEND;TZID=America/New_York:20240503T200000
DTSTAMP:20260424T234756
CREATED:20240118T013352Z
LAST-MODIFIED:20260118T170113Z
UID:1053-1714759200-1714766400@sonic-boom-productions.com
SUMMARY:Sonic Boom Productions - Music Equipment Rental for Summer Concert Series
DESCRIPTION:The Ridge Hill Music on the Hill Summer Concert Series: Come see our friends the Showtime Dance Band\, playing Motown and much more\, right up today’s hits
URL:https://sonic-boom-productions.com/event/sonic-boom-productions-summer-concert-series-music-equipment-rental/
LOCATION:Music on the Hill Summer Concert Series\, 1 Ridge Hill Boulevard\, Yonkers\, NY\, 10710\, United States
CATEGORIES:Equipment Rental - Drums, Sound, Lighting
ATTACH;FMTTYPE=image/jpeg:https://sonic-boom-productions.com/wp-content/uploads/2022/03/Sonic-Boom-Productions-Pro-Audio-Rental-Stamford-CT.jpeg
END:VEVENT
BEGIN:VEVENT
DTSTART;TZID=America/New_York:20240504T190000
DTEND;TZID=America/New_York:20240504T210000
DTSTAMP:20260424T234756
CREATED:20240221T221633Z
LAST-MODIFIED:20240222T155036Z
UID:1087-1714849200-1714856400@sonic-boom-productions.com
SUMMARY:Nights of the Round Table Comedy - The Greenwich Lounge at The Stamford Diner
DESCRIPTION:$15 admission\nGreenwich Lounge Room\nat the Stamford Diner\nReservations strongly recommended\n2 drink minimum & 1 entree per person\n135 Harvard Avenue\, Stamford 203-348-7000
URL:https://sonic-boom-productions.com/event/nights-of-the-round-table-comedy-the-greenwich-lounge-at-the-stamford-diner-2/
LOCATION:The Stamford Diner\, 135 Harvard Ave\, Stamford\, CT\, 06902\, United States
CATEGORIES:Comedy Show
ATTACH;FMTTYPE=image/png:https://sonic-boom-productions.com/wp-content/uploads/2022/03/comedy-night-event.png
END:VEVENT
BEGIN:VEVENT
DTSTART;TZID=America/New_York:20240518T190000
DTEND;TZID=America/New_York:20240518T230000
DTSTAMP:20260424T234756
CREATED:20240222T155435Z
LAST-MODIFIED:20240222T155435Z
UID:1095-1716058800-1716073200@sonic-boom-productions.com
SUMMARY:The TNT Dyn-O-Mite Band - Spring Dance Benefit at Congers Church
DESCRIPTION:Benefits Congers UMC Youth Scholarships and Programs.  \nTickets available now: https://www.facebook.com/CongersUMC/
URL:https://sonic-boom-productions.com/event/the-tnt-dyn-o-mite-band-spring-dance-at-congers-church/
LOCATION:Congers United Methodist Church\, 3 Old Haverstraw Road\, Congers\, NY\, United States
CATEGORIES:Live Music
ATTACH;FMTTYPE=image/png:https://sonic-boom-productions.com/wp-content/uploads/2022/04/rb-music-event.png
END:VEVENT
BEGIN:VEVENT
DTSTART;TZID=America/New_York:20240523T193000
DTEND;TZID=America/New_York:20240523T220000
DTSTAMP:20260424T234756
CREATED:20240511T205728Z
LAST-MODIFIED:20240511T224540Z
UID:1120-1716492600-1716501600@sonic-boom-productions.com
SUMMARY:TNT Blues Revue / La Casa Cafe and Bar
DESCRIPTION:
URL:https://sonic-boom-productions.com/event/tnt-blues-revue-la-casa-cafe-and-bar/
LOCATION:LA CASA Cafe and Bar (formerly Murph & Eddy’s)\, 157 Mamaroneck Ave\, Mamaroneck\, 10543\, United States
CATEGORIES:Live Music
ATTACH;FMTTYPE=image/png:https://sonic-boom-productions.com/wp-content/uploads/2022/04/blues-music-event.png
END:VEVENT
END:VCALENDAR