BEGIN:VCALENDAR
VERSION:2.0
PRODID:-//Sonic Boom Productions - ECPv6.15.20//NONSGML v1.0//EN
CALSCALE:GREGORIAN
METHOD:PUBLISH
X-ORIGINAL-URL:https://sonic-boom-productions.com
X-WR-CALDESC:Events for Sonic Boom Productions
REFRESH-INTERVAL;VALUE=DURATION:PT1H
X-Robots-Tag:noindex
X-PUBLISHED-TTL:PT1H
BEGIN:VTIMEZONE
TZID:America/New_York
BEGIN:DAYLIGHT
TZOFFSETFROM:-0500
TZOFFSETTO:-0400
TZNAME:EDT
DTSTART:20230312T070000
END:DAYLIGHT
BEGIN:STANDARD
TZOFFSETFROM:-0400
TZOFFSETTO:-0500
TZNAME:EST
DTSTART:20231105T060000
END:STANDARD
BEGIN:DAYLIGHT
TZOFFSETFROM:-0500
TZOFFSETTO:-0400
TZNAME:EDT
DTSTART:20240310T070000
END:DAYLIGHT
BEGIN:STANDARD
TZOFFSETFROM:-0400
TZOFFSETTO:-0500
TZNAME:EST
DTSTART:20241103T060000
END:STANDARD
BEGIN:DAYLIGHT
TZOFFSETFROM:-0500
TZOFFSETTO:-0400
TZNAME:EDT
DTSTART:20250309T070000
END:DAYLIGHT
BEGIN:STANDARD
TZOFFSETFROM:-0400
TZOFFSETTO:-0500
TZNAME:EST
DTSTART:20251102T060000
END:STANDARD
END:VTIMEZONE
BEGIN:VEVENT
DTSTART;TZID=America/New_York:20240705T180000
DTEND;TZID=America/New_York:20240705T200000
DTSTAMP:20260424T202355
CREATED:20240118T014512Z
LAST-MODIFIED:20260118T170202Z
UID:1062-1720202400-1720209600@sonic-boom-productions.com
SUMMARY:Sonic Boom Productions - Music Equipment Rental for Summer Concert Series
DESCRIPTION:The Ridge Hill Music on the Hill Summer Concert Series: Come see our friends the Showtime Dance Band\, playing Motown and much more\, right up today’s hits
URL:https://sonic-boom-productions.com/event/sonic-boom-productions-music-equipment-rental-for-summer-concert-series-2/
LOCATION:Music on the Hill Summer Concert Series\, 1 Ridge Hill Boulevard\, Yonkers\, NY\, 10710\, United States
CATEGORIES:Equipment Rental - Drums, Sound, Lighting
ATTACH;FMTTYPE=image/jpeg:https://sonic-boom-productions.com/wp-content/uploads/2022/03/Sonic-Boom-Productions-Pro-Audio-Rental-Stamford-CT.jpeg
END:VEVENT
BEGIN:VEVENT
DTSTART;TZID=America/New_York:20240720T190000
DTEND;TZID=America/New_York:20240720T210000
DTSTAMP:20260424T202355
CREATED:20240621T005653Z
LAST-MODIFIED:20240621T005822Z
UID:1138-1721502000-1721509200@sonic-boom-productions.com
SUMMARY:Nights of the Round Table Comedy - The Greenwich Lounge at The Stamford Diner
DESCRIPTION:$15 admission\nGreenwich Lounge Room\nat the Stamford Diner\nReservations strongly recommended\n2 drink minimum & 1 entree per person\n135 Harvard Avenue\, Stamford 203-348-7000
URL:https://sonic-boom-productions.com/event/nights-of-the-round-table-comedy-the-greenwich-lounge-at-the-stamford-diner-3/
LOCATION:The Stamford Diner\, 135 Harvard Ave\, Stamford\, CT\, 06902\, United States
CATEGORIES:Comedy Show
ATTACH;FMTTYPE=image/png:https://sonic-boom-productions.com/wp-content/uploads/2022/03/comedy-night-event.png
END:VEVENT
END:VCALENDAR